{"text_format":"1","workbook":"xlsx","n_sheets":2,"sheets":["Nat Gas Forward Curve","Forward Curve Chart"],"not_rendered":{"charts":1,"images":5,"macros":1,"external_links":0,"defined_names":6,"comments":1,"pivot_tables":0},"unopened":[],"bounds":{"document_bytes":16777216,"sheet_cells":100000,"rows_first":2000,"rows_last":500,"rows_between":2000,"halvings":0,"cell_chars":16384,"cell_head_chars":4096},"cells_cut":0,"cells_raw":0,"read":"whole","date_system":"1900"}

{"sheet":"Nat Gas Forward Curve","index":0,"n_rows":150,"n_cols":18,"rows_kept":150,"cut":false,"hidden":false,"merged":[[1,0,1,11],[20,13,21,17],[35,13,36,17],[0,14,0,17],[3,16,3,17],[2,13,3,14],[1,13,1,17],[5,13,6,17],[2,16,2,17]]}
[]
["Natural Gas Forward Curve",null,null,null,null,null,null,null,null,null,null,null,null,"Spread / Strip Calculator"]
[null,"Mkt","Prev","My","Implied",null,null,null,"Old","New"]
["Mo/Yr","Sprd","Sprd","\nSprd"," Future","Imp \nChg","Last Trade","Net Chg","Settle","Settle","Settle \nChg","Exp Date"]
[{"$f":"RTD(\"esrtd\",,\"NG 1!\",\"Delivery\")","v":"Dec'14"},null,null,null,{"$f":"RTD(\"esrtd\",,\"NG 1!\",\"Last\")","v":4.1870000000000003},{"$f":"IF(AND(E5<>\"\",I5<>\"\"),E5-I5,\"\")","v":3.6000000000000476E-2},{"$f":"RTD(\"esrtd\",,\"NG 1!\",\"Last\")","v":4.1870000000000003},{"$f":"RTD(\"esrtd\",,\"NG 1!\",\"Change\")","v":3.6000000000000476E-2},{"$f":"RTD(\"esrtd\",,\"NG 1!\",\"PrevPrice\")","v":4.1509999999999998},{"$f":"RTD(\"esrtd\",,\"NG 1!\",\"NewSettlement\")","v":""},{"$f":"IF(AND(I5<>\"\",J5<>\"\"),J5-I5,\"\")","v":""},{"$f":"RTD(\"esrtd\",,\"NG 1!\",\"Expiration\")","v":"2014-11-25T07:00:00"}]
[{"$f":"RTD(\"esrtd\",,\"NG 2!\",\"Delivery\")","v":"Jan'15"},null,null,null,{"$f":"RTD(\"esrtd\",,\"NG 2!\",\"Last\")","v":4.3120000000000003},{"$f":"IF(AND(E6<>\"\",I6<>\"\"),E6-I6,\"\")","v":8.0000000000000071E-3},{"$f":"RTD(\"esrtd\",,\"NG 2!\",\"Last\")","v":4.3120000000000003},{"$f":"RTD(\"esrtd\",,\"NG 2!\",\"Change\")","v":8.0000000000000071E-3},{"$f":"RTD(\"esrtd\",,\"NG 2!\",\"PrevPrice\")","v":4.3040000000000003},{"$f":"RTD(\"esrtd\",,\"NG 2!\",\"NewSettlement\")","v":""},{"$f":"IF(AND(I6<>\"\",J6<>\"\"),J6-I6,\"\")","v":""},{"$f":"RTD(\"esrtd\",,\"NG 2!\",\"Expiration\")","v":"2014-12-29T07:00:00"},null,"Quarterlies"]
[{"$f":"RTD(\"esrtd\",,\"NG 3!\",\"Delivery\")","v":"Feb'15"},{"$f":"RTD(\"esrtd\",,\"NG 2!:3!\",\"Market\")","v":2.1499999999999998E-2},{"$f":"I6-I7","v":2.3000000000000576E-2},null,{"$f":"IF(D7<>\"\",E6-D7,IF(B7<>\"\",E6-B7,E6-C7))","v":4.2905000000000006},9.5000000000009521E-3,{"$f":"RTD(\"esrtd\",,\"NG 3!\",\"Last\")","v":4.29},{"$f":"RTD(\"esrtd\",,\"NG 3!\",\"Change\")","v":9.0000000000003411E-3},{"$f":"RTD(\"esrtd\",,\"NG 3!\",\"PrevPrice\")","v":4.2809999999999997},{"$f":"RTD(\"esrtd\",,\"NG 3!\",\"NewSettlement\")","v":""},"",{"$f":"RTD(\"esrtd\",,\"NG 3!\",\"Expiration\")","v":"2015-01-28T07:00:00"}]
[{"$f":"RTD(\"esrtd\",,\"NG 4!\",\"Delivery\")","v":"Mar'15"},{"$f":"RTD(\"esrtd\",,\"NG 3!:4!\",\"Market\")","v":7.4499999999999997E-2},{"$f":"I7-I8","v":6.6999999999999282E-2},null,{"$f":"IF(D8<>\"\",E7-D8,IF(B8<>\"\",E7-B8,E7-C8))","v":4.2160000000000011},2.0000000000006679E-3,{"$f":"RTD(\"esrtd\",,\"NG 4!\",\"Last\")","v":4.2149999999999999},{"$f":"RTD(\"esrtd\",,\"NG 4!\",\"Change\")","v":9.9999999999944578E-4},{"$f":"RTD(\"esrtd\",,\"NG 4!\",\"PrevPrice\")","v":4.2140000000000004},{"$f":"RTD(\"esrtd\",,\"NG 4!\",\"NewSettlement\")","v":""},"",{"$f":"RTD(\"esrtd\",,\"NG 4!\",\"Expiration\")","v":"2015-02-25T07:00:00"},null,"Quarter","Implied","OldSet","NewSet","Chg"]
[{"$f":"RTD(\"esrtd\",,\"NG 5!\",\"Delivery\")","v":"Apr'15"},{"$f":"RTD(\"esrtd\",,\"NG 4!:5!\",\"Market\")","v":0.47149999999999997},0.45600000000000041,null,{"$f":"IF(D9<>\"\",E8-D9,IF(B9<>\"\",E8-B9,E8-C9))","v":3.7445000000000013},-1.3499999999998735E-2,{"$f":"RTD(\"esrtd\",,\"NG 5!\",\"Last\")","v":3.7440000000000002},{"$f":"RTD(\"esrtd\",,\"NG 5!\",\"Change\")","v":-1.399999999999979E-2},{"$f":"RTD(\"esrtd\",,\"NG 5!\",\"PrevPrice\")","v":3.758},{"$f":"RTD(\"esrtd\",,\"NG 5!\",\"NewSettlement\")","v":""},"",{"$f":"RTD(\"esrtd\",,\"NG 5!\",\"Expiration\")","v":"2015-03-27T08:00:00"},null,{"$f":"RollingQtr(1)","v":"Q1 2015"},{"$f":"IF(ISERROR(IF(N9=\"\",\"\",NGQtrAvg(N9,5))),\"\",IF(N9=\"\",\"\",NGQtrAvg(N9,5)))","v":4.2728333333333337},{"$f":"IF(ISERROR(IF(N9=\"\",\"\",NGQtrAvg(N9,9))),\"\",IF(N9=\"\",\"\",NGQtrAvg(N9,9)))","v":4.2663333333333338},{"$f":"IF(ISERROR(IF(OR(N9=\"\",J5=\"\"),\"\",NGQtrAvg(N9,10))),\"\",IF(OR(N9=\"\",J5=\"\"),\"\",NGQtrAvg(N9,10)))","v":""},{"$f":"IF(ISERROR(IF(AND(P9<>\"\",Q9<>\"\"),Q9-P9,\"\")),\"\",IF(AND(P9<>\"\",Q9<>\"\"),Q9-P9,\"\"))","v":""}]
[{"$f":"RTD(\"esrtd\",,\"NG 6!\",\"Delivery\")","v":"May'15"},{"$f":"RTD(\"esrtd\",,\"NG 5!:6!\",\"Market\")","v":4.7500000000000001E-2},4.3000000000000149E-2,null,{"$f":"IF(D10<>\"\",E9-D10,IF(B10<>\"\",E9-B10,E9-C10))","v":3.6970000000000014},-1.7999999999998462E-2,{"$f":"RTD(\"esrtd\",,\"NG 6!\",\"Last\")","v":3.698},{"$f":"RTD(\"esrtd\",,\"NG 6!\",\"Change\")","v":-1.6999999999999904E-2},{"$f":"RTD(\"esrtd\",,\"NG 6!\",\"PrevPrice\")","v":3.7149999999999999},{"$f":"RTD(\"esrtd\",,\"NG 6!\",\"NewSettlement\")","v":""},"",{"$f":"RTD(\"esrtd\",,\"NG 6!\",\"Expiration\")","v":"2015-04-28T08:00:00"},null,{"$f":"RollingQtr(2)","v":"Q2 2015"},{"$f":"IF(ISERROR(IF(N10=\"\",\"\",NGQtrAvg(N10,5))),\"\",IF(N10=\"\",\"\",NGQtrAvg(N10,5)))","v":3.718333333333335},{"$f":"IF(ISERROR(IF(N10=\"\",\"\",NGQtrAvg(N10,9))),\"\",IF(N10=\"\",\"\",NGQtrAvg(N10,9)))","v":3.7349999999999999},{"$f":"IF(ISERROR(IF(OR(N10=\"\",J6=\"\"),\"\",NGQtrAvg(N10,10))),\"\",IF(OR(N10=\"\",J6=\"\"),\"\",NGQtrAvg(N10,10)))","v":""},{"$f":"IF(ISERROR(IF(AND(P10<>\"\",Q10<>\"\"),Q10-P10,\"\")),\"\",IF(AND(P10<>\"\",Q10<>\"\"),Q10-P10,\"\"))","v":""}]
[{"$f":"RTD(\"esrtd\",,\"NG 7!\",\"Delivery\")","v":"Jun'15"},{"$f":"RTD(\"esrtd\",,\"NG 6!:7!\",\"Market\")","v":-1.6500000000000001E-2},-1.7000000000000348E-2,null,3.7135000000000016,-1.8499999999998629E-2,{"$f":"RTD(\"esrtd\",,\"NG 7!\",\"Last\")","v":3.702},{"$f":"RTD(\"esrtd\",,\"NG 7!\",\"Change\")","v":-3.0000000000000249E-2},{"$f":"RTD(\"esrtd\",,\"NG 7!\",\"PrevPrice\")","v":3.7320000000000002},{"$f":"RTD(\"esrtd\",,\"NG 7!\",\"NewSettlement\")","v":""},"",{"$f":"RTD(\"esrtd\",,\"NG 7!\",\"Expiration\")","v":"2015-05-27T08:00:00"},null,{"$f":"RollingQtr(3)","v":"Q3 2015"},{"$f":"IF(ISERROR(IF(N11=\"\",\"\",NGQtrAvg(N11,5))),\"\",IF(N11=\"\",\"\",NGQtrAvg(N11,5)))","v":3.7310000000000012},{"$f":"IF(ISERROR(IF(N11=\"\",\"\",NGQtrAvg(N11,9))),\"\",IF(N11=\"\",\"\",NGQtrAvg(N11,9)))","v":3.7490000000000001},{"$f":"IF(ISERROR(IF(OR(N11=\"\",J7=\"\"),\"\",NGQtrAvg(N11,10))),\"\",IF(OR(N11=\"\",J7=\"\"),\"\",NGQtrAvg(N11,10)))","v":""},""]
[{"$f":"RTD(\"esrtd\",,\"NG 8!\",\"Delivery\")","v":"Jul'15"},{"$f":"RTD(\"esrtd\",,\"NG 7!:8!\",\"Market\")","v":-2.1999999999999999E-2},-2.1999999999999797E-2,null,3.7355000000000014,-1.8499999999998629E-2,{"$f":"RTD(\"esrtd\",,\"NG 8!\",\"Last\")","v":3.7410000000000001},{"$f":"RTD(\"esrtd\",,\"NG 8!\",\"Change\")","v":-1.2999999999999901E-2},{"$f":"RTD(\"esrtd\",,\"NG 8!\",\"PrevPrice\")","v":3.754},{"$f":"RTD(\"esrtd\",,\"NG 8!\",\"NewSettlement\")","v":""},"",{"$f":"RTD(\"esrtd\",,\"NG 8!\",\"Expiration\")","v":"2015-06-26T08:00:00"},null,{"$f":"RollingQtr(4)","v":"Q4 2015"},{"$f":"IF(ISERROR(IF(N12=\"\",\"\",NGQtrAvg(N12,5))),\"\",IF(N12=\"\",\"\",NGQtrAvg(N12,5)))","v":3.8536666666666677},{"$f":"IF(ISERROR(IF(N12=\"\",\"\",NGQtrAvg(N12,9))),\"\",IF(N12=\"\",\"\",NGQtrAvg(N12,9)))","v":3.8706666666666667},{"$f":"IF(ISERROR(IF(OR(N12=\"\",J8=\"\"),\"\",NGQtrAvg(N12,10))),\"\",IF(OR(N12=\"\",J8=\"\"),\"\",NGQtrAvg(N12,10)))","v":""},""]
[{"$f":"RTD(\"esrtd\",,\"NG 9!\",\"Delivery\")","v":"Aug'15"},{"$f":"RTD(\"esrtd\",,\"NG 8!:9!\",\"Market\")","v":-3.5000000000000001E-3},-3.0000000000001137E-3,null,3.7390000000000012,-1.7999999999998906E-2,{"$f":"RTD(\"esrtd\",,\"NG 9!\",\"Last\")","v":3.7330000000000001},{"$f":"RTD(\"esrtd\",,\"NG 9!\",\"Change\")","v":-2.4000000000000021E-2},{"$f":"RTD(\"esrtd\",,\"NG 9!\",\"PrevPrice\")","v":3.7570000000000001},{"$f":"RTD(\"esrtd\",,\"NG 9!\",\"NewSettlement\")","v":""},"",{"$f":"RTD(\"esrtd\",,\"NG 9!\",\"Expiration\")","v":"2015-07-29T08:00:00"},null,{"$f":"RollingQtr(5)","v":"Q1 2016"},{"$f":"IF(ISERROR(IF(N13=\"\",\"\",NGQtrAvg(N13,5))),\"\",IF(N13=\"\",\"\",NGQtrAvg(N13,5)))","v":4.0835000000000008},{"$f":"IF(ISERROR(IF(N13=\"\",\"\",NGQtrAvg(N13,9))),\"\",IF(N13=\"\",\"\",NGQtrAvg(N13,9)))","v":4.1046666666666667},{"$f":"IF(ISERROR(IF(OR(N13=\"\",J9=\"\"),\"\",NGQtrAvg(N13,10))),\"\",IF(OR(N13=\"\",J9=\"\"),\"\",NGQtrAvg(N13,10)))","v":""},""]
[{"$f":"RTD(\"esrtd\",,\"NG 10!\",\"Delivery\")","v":"Sep'15"},{"$f":"RTD(\"esrtd\",,\"NG 9!:10!\",\"Market\")","v":2.0500000000000001E-2},2.0999999999999908E-2,null,3.718500000000001,-1.7499999999999183E-2,{"$f":"RTD(\"esrtd\",,\"NG 10!\",\"Last\")","v":3.698},{"$f":"RTD(\"esrtd\",,\"NG 10!\",\"Change\")","v":-3.8000000000000256E-2},{"$f":"RTD(\"esrtd\",,\"NG 10!\",\"PrevPrice\")","v":3.7360000000000002},{"$f":"RTD(\"esrtd\",,\"NG 10!\",\"NewSettlement\")","v":""},"",{"$f":"RTD(\"esrtd\",,\"NG 10!\",\"Expiration\")","v":"2015-08-27T08:00:00"},null,{"$f":"RollingQtr(6)","v":"Q2 2016"},{"$f":"IF(ISERROR(IF(N14=\"\",\"\",NGQtrAvg(N14,5))),\"\",IF(N14=\"\",\"\",NGQtrAvg(N14,5)))","v":3.7711666666666677},{"$f":"IF(ISERROR(IF(N14=\"\",\"\",NGQtrAvg(N14,9))),\"\",IF(N14=\"\",\"\",NGQtrAvg(N14,9)))","v":3.7960000000000007},{"$f":"IF(ISERROR(IF(OR(N14=\"\",J10=\"\"),\"\",NGQtrAvg(N14,10))),\"\",IF(OR(N14=\"\",J10=\"\"),\"\",NGQtrAvg(N14,10)))","v":""},""]
[{"$f":"RTD(\"esrtd\",,\"NG 11!\",\"Delivery\")","v":"Oct'15"},{"$f":"RTD(\"esrtd\",,\"NG 10!:11!\",\"Market\")","v":-2.6499999999999999E-2},-2.3999999999999577E-2,null,3.745000000000001,-1.4999999999998792E-2,{"$f":"RTD(\"esrtd\",,\"NG 11!\",\"Last\")","v":3.7389999999999999},{"$f":"RTD(\"esrtd\",,\"NG 11!\",\"Change\")","v":-2.0999999999999908E-2},{"$f":"RTD(\"esrtd\",,\"NG 11!\",\"PrevPrice\")","v":3.76},{"$f":"RTD(\"esrtd\",,\"NG 11!\",\"NewSettlement\")","v":""},"",{"$f":"RTD(\"esrtd\",,\"NG 11!\",\"Expiration\")","v":"2015-09-28T08:00:00"},null,{"$f":"RollingQtr(7)","v":"Q3 2016"},{"$f":"IF(ISERROR(IF(N15=\"\",\"\",NGQtrAvg(N15,5))),\"\",IF(N15=\"\",\"\",NGQtrAvg(N15,5)))","v":3.8063333333333342},{"$f":"IF(ISERROR(IF(N15=\"\",\"\",NGQtrAvg(N15,9))),\"\",IF(N15=\"\",\"\",NGQtrAvg(N15,9)))","v":3.8353333333333333},{"$f":"IF(ISERROR(IF(OR(N15=\"\",J11=\"\"),\"\",NGQtrAvg(N15,10))),\"\",IF(OR(N15=\"\",J11=\"\"),\"\",NGQtrAvg(N15,10)))","v":""},""]
[{"$f":"RTD(\"esrtd\",,\"NG 12!\",\"Delivery\")","v":"Nov'15"},{"$f":"RTD(\"esrtd\",,\"NG 11!:12!\",\"Market\")","v":-7.7499999999999999E-2},-7.9000000000000181E-2,null,3.8225000000000011,-1.6499999999998849E-2,{"$f":"RTD(\"esrtd\",,\"NG 12!\",\"Last\")","v":3.8250000000000002},{"$f":"RTD(\"esrtd\",,\"NG 12!\",\"Change\")","v":-1.399999999999979E-2},{"$f":"RTD(\"esrtd\",,\"NG 12!\",\"PrevPrice\")","v":3.839},{"$f":"RTD(\"esrtd\",,\"NG 12!\",\"NewSettlement\")","v":""},"",{"$f":"RTD(\"esrtd\",,\"NG 12!\",\"Expiration\")","v":"2015-10-28T08:00:00"},null,{"$f":"RollingQtr(8)","v":"Q4 2016"},{"$f":"IF(ISERROR(IF(N16=\"\",\"\",NGQtrAvg(N16,5))),\"\",IF(N16=\"\",\"\",NGQtrAvg(N16,5)))","v":3.9265000000000008},{"$f":"IF(ISERROR(IF(N16=\"\",\"\",NGQtrAvg(N16,9))),\"\",IF(N16=\"\",\"\",NGQtrAvg(N16,9)))","v":3.9563333333333333},{"$f":"IF(ISERROR(IF(OR(N16=\"\",J12=\"\"),\"\",NGQtrAvg(N16,10))),\"\",IF(OR(N16=\"\",J12=\"\"),\"\",NGQtrAvg(N16,10)))","v":""},""]
[{"$f":"RTD(\"esrtd\",,\"NG 13!\",\"Delivery\")","v":"Dec'15"},{"$f":"RTD(\"esrtd\",,\"NG 12!:13!\",\"Market\")","v":-0.17099999999999999},-0.17399999999999993,null,3.9935000000000009,-1.9499999999998963E-2,{"$f":"RTD(\"esrtd\",,\"NG 13!\",\"Last\")","v":3.9889999999999999},{"$f":"RTD(\"esrtd\",,\"NG 13!\",\"Change\")","v":-2.4000000000000021E-2},{"$f":"RTD(\"esrtd\",,\"NG 13!\",\"PrevPrice\")","v":4.0129999999999999},{"$f":"RTD(\"esrtd\",,\"NG 13!\",\"NewSettlement\")","v":""},"",{"$f":"RTD(\"esrtd\",,\"NG 13!\",\"Expiration\")","v":"2015-11-25T07:00:00"},null,{"$f":"RollingQtr(9)","v":"Q1 2017"},{"$f":"IF(ISERROR(IF(N17=\"\",\"\",NGQtrAvg(N17,5))),\"\",IF(N17=\"\",\"\",NGQtrAvg(N17,5)))","v":4.1721666666666666},{"$f":"IF(ISERROR(IF(N17=\"\",\"\",NGQtrAvg(N17,9))),\"\",IF(N17=\"\",\"\",NGQtrAvg(N17,9)))","v":4.1933333333333342},{"$f":"IF(ISERROR(IF(OR(N17=\"\",J13=\"\"),\"\",NGQtrAvg(N17,10))),\"\",IF(OR(N17=\"\",J13=\"\"),\"\",NGQtrAvg(N17,10)))","v":""},""]
[{"$f":"RTD(\"esrtd\",,\"NG 14!\",\"Delivery\")","v":"Jan'16"},{"$f":"RTD(\"esrtd\",,\"NG 13!:14!\",\"Market\")","v":-0.13600000000000001},-0.1379999999999999,null,4.1295000000000011,-2.1499999999998742E-2,{"$f":"RTD(\"esrtd\",,\"NG 14!\",\"Last\")","v":4.133},{"$f":"RTD(\"esrtd\",,\"NG 14!\",\"Change\")","v":-1.7999999999999794E-2},{"$f":"RTD(\"esrtd\",,\"NG 14!\",\"PrevPrice\")","v":4.1509999999999998},{"$f":"RTD(\"esrtd\",,\"NG 14!\",\"NewSettlement\")","v":""},"",{"$f":"RTD(\"esrtd\",,\"NG 14!\",\"Expiration\")","v":"2015-12-29T07:00:00"},null,{"$f":"RollingQtr(10)","v":"Q2 2017"},{"$f":"IF(ISERROR(IF(N18=\"\",\"\",NGQtrAvg(N18,5))),\"\",IF(N18=\"\",\"\",NGQtrAvg(N18,5)))","v":3.8989999999999996},{"$f":"IF(ISERROR(IF(N18=\"\",\"\",NGQtrAvg(N18,9))),\"\",IF(N18=\"\",\"\",NGQtrAvg(N18,9)))","v":3.9170000000000003},{"$f":"IF(ISERROR(IF(OR(N18=\"\",J14=\"\"),\"\",NGQtrAvg(N18,10))),\"\",IF(OR(N18=\"\",J14=\"\"),\"\",NGQtrAvg(N18,10)))","v":""},""]
[{"$f":"RTD(\"esrtd\",,\"NG 15!\",\"Delivery\")","v":"Feb'16"},{"$f":"RTD(\"esrtd\",,\"NG 14!:15!\",\"Market\")","v":3.2000000000000001E-2},3.2000000000000028E-2,null,4.097500000000001,-2.1499999999998742E-2,{"$f":"RTD(\"esrtd\",,\"NG 15!\",\"Last\")","v":4.0940000000000003},{"$f":"RTD(\"esrtd\",,\"NG 15!\",\"Change\")","v":-2.4999999999999467E-2},{"$f":"RTD(\"esrtd\",,\"NG 15!\",\"PrevPrice\")","v":4.1189999999999998},{"$f":"RTD(\"esrtd\",,\"NG 15!\",\"NewSettlement\")","v":""},"",{"$f":"RTD(\"esrtd\",,\"NG 15!\",\"Expiration\")","v":"2016-01-27T07:00:00"},null,{"$f":"RollingQtr(11)","v":"Q3 2017"},{"$f":"IF(ISERROR(IF(N19=\"\",\"\",NGQtrAvg(N19,5))),\"\",IF(N19=\"\",\"\",NGQtrAvg(N19,5)))","v":3.94},{"$f":"IF(ISERROR(IF(N19=\"\",\"\",NGQtrAvg(N19,9))),\"\",IF(N19=\"\",\"\",NGQtrAvg(N19,9)))","v":3.9710000000000001},{"$f":"IF(ISERROR(IF(OR(N19=\"\",J15=\"\"),\"\",NGQtrAvg(N19,10))),\"\",IF(OR(N19=\"\",J15=\"\"),\"\",NGQtrAvg(N19,10)))","v":""},""]
[{"$f":"RTD(\"esrtd\",,\"NG 16!\",\"Delivery\")","v":"Mar'16"},{"$f":"RTD(\"esrtd\",,\"NG 15!:16!\",\"Market\")","v":7.3999999999999996E-2},7.5000000000000178E-2,null,4.0235000000000012,-2.0499999999998408E-2,{"$f":"RTD(\"esrtd\",,\"NG 16!\",\"Last\")","v":4.0279999999999996},{"$f":"RTD(\"esrtd\",,\"NG 16!\",\"Change\")","v":-1.6000000000000014E-2},{"$f":"RTD(\"esrtd\",,\"NG 16!\",\"PrevPrice\")","v":4.0439999999999996},{"$f":"RTD(\"esrtd\",,\"NG 16!\",\"NewSettlement\")","v":""},"",{"$f":"RTD(\"esrtd\",,\"NG 16!\",\"Expiration\")","v":"2016-02-25T07:00:00"}]
[{"$f":"RTD(\"esrtd\",,\"NG 17!\",\"Delivery\")","v":"Apr'16"},{"$f":"RTD(\"esrtd\",,\"NG 16!:17!\",\"Market\")","v":0.2545},0.24999999999999956,null,3.769000000000001,-2.4999999999999023E-2,{"$f":"RTD(\"esrtd\",,\"NG 17!\",\"Last\")","v":3.7629999999999999},{"$f":"RTD(\"esrtd\",,\"NG 17!\",\"Change\")","v":-3.1000000000000139E-2},{"$f":"RTD(\"esrtd\",,\"NG 17!\",\"PrevPrice\")","v":3.794},{"$f":"RTD(\"esrtd\",,\"NG 17!\",\"NewSettlement\")","v":""},"",{"$f":"RTD(\"esrtd\",,\"NG 17!\",\"Expiration\")","v":"2016-03-29T08:00:00"},null,"Calendars"]
[{"$f":"RTD(\"esrtd\",,\"NG 18!\",\"Delivery\")","v":"May'16"},{"$f":"RTD(\"esrtd\",,\"NG 17!:18!\",\"Market\")","v":8.5000000000000006E-3},8.999999999999897E-3,null,3.7605000000000008,-2.44999999999993E-2,{"$f":"RTD(\"esrtd\",,\"NG 18!\",\"Last\")","v":3.7450000000000001},{"$f":"RTD(\"esrtd\",,\"NG 18!\",\"Change\")","v":-4.0000000000000036E-2},{"$f":"RTD(\"esrtd\",,\"NG 18!\",\"PrevPrice\")","v":3.7850000000000001},{"$f":"RTD(\"esrtd\",,\"NG 18!\",\"NewSettlement\")","v":""},"",{"$f":"RTD(\"esrtd\",,\"NG 18!\",\"Expiration\")","v":"2016-04-27T08:00:00"}]
[{"$f":"RTD(\"esrtd\",,\"NG 19!\",\"Delivery\")","v":"Jun'16"},{"$f":"RTD(\"esrtd\",,\"NG 18!:19!\",\"Market\")","v":-2.35E-2},-2.4000000000000021E-2,null,3.7840000000000007,-2.4999999999999467E-2,{"$f":"RTD(\"esrtd\",,\"NG 19!\",\"Last\")","v":3.7770000000000001},{"$f":"RTD(\"esrtd\",,\"NG 19!\",\"Change\")","v":-3.2000000000000028E-2},{"$f":"RTD(\"esrtd\",,\"NG 19!\",\"PrevPrice\")","v":3.8090000000000002},{"$f":"RTD(\"esrtd\",,\"NG 19!\",\"NewSettlement\")","v":""},"",{"$f":"RTD(\"esrtd\",,\"NG 19!\",\"Expiration\")","v":"2016-05-26T08:00:00"},null,"Cal Year","Implied","OldSet","NewSet","Chg"]
[{"$f":"RTD(\"esrtd\",,\"NG 20!\",\"Delivery\")","v":"Jul'16"},{"$f":"RTD(\"esrtd\",,\"NG 19!:20!\",\"Market\")","v":-2.3E-2},-2.4999999999999911E-2,null,3.8070000000000008,-2.6999999999999247E-2,{"$f":"RTD(\"esrtd\",,\"NG 20!\",\"Last\")","v":3.7909999999999999},{"$f":"RTD(\"esrtd\",,\"NG 20!\",\"Change\")","v":-4.3000000000000149E-2},{"$f":"RTD(\"esrtd\",,\"NG 20!\",\"PrevPrice\")","v":3.8340000000000001},{"$f":"RTD(\"esrtd\",,\"NG 20!\",\"NewSettlement\")","v":""},"",{"$f":"RTD(\"esrtd\",,\"NG 20!\",\"Expiration\")","v":"2016-06-28T08:00:00"},null,{"$f":"RollingYear(1)","v":"CAL 2015"},{"$f":"IF(N24=\"\",\"\",calng(N24,5))","v":3.8939583333333352},{"$f":"IF(N24=\"\",\"\",calng(N24,9))","v":3.9052500000000001},{"$f":"IF(OR(N24=\"\",J5=\"\"),\"\",calng(N24,10))","v":""},{"$f":"IF(AND(P24<>\"\",Q24<>\"\"),Q24-P24,\"\")","v":""}]
[{"$f":"RTD(\"esrtd\",,\"NG 21!\",\"Delivery\")","v":"Aug'16"},{"$f":"RTD(\"esrtd\",,\"NG 20!:21!\",\"Market\")","v":-6.4999999999999997E-3},-8.999999999999897E-3,null,3.8135000000000008,-2.9499999999999194E-2,{"$f":"RTD(\"esrtd\",,\"NG 21!\",\"Last\")","v":3.8},{"$f":"RTD(\"esrtd\",,\"NG 21!\",\"Change\")","v":-4.3000000000000149E-2},{"$f":"RTD(\"esrtd\",,\"NG 21!\",\"PrevPrice\")","v":3.843},{"$f":"RTD(\"esrtd\",,\"NG 21!\",\"NewSettlement\")","v":""},"",{"$f":"RTD(\"esrtd\",,\"NG 21!\",\"Expiration\")","v":"2016-07-27T08:00:00"},null,{"$f":"RollingYear(2)","v":"CAL 2016"},{"$f":"IF(N25=\"\",\"\",calng(N25,5))","v":3.896875000000001},{"$f":"IF(N25=\"\",\"\",calng(N25,9))","v":3.923083333333333},{"$f":"IF(OR(N25=\"\",J6=\"\"),\"\",calng(N25,10))","v":""},{"$f":"IF(AND(P25<>\"\",Q25<>\"\"),Q25-P25,\"\")","v":""}]
[{"$f":"RTD(\"esrtd\",,\"NG 22!\",\"Delivery\")","v":"Sep'16"},{"$f":"RTD(\"esrtd\",,\"NG 21!:22!\",\"Market\")","v":1.4999999999999999E-2},1.399999999999979E-2,null,3.7985000000000007,-3.0499999999999527E-2,{"$f":"RTD(\"esrtd\",,\"NG 22!\",\"Last\")","v":3.8},{"$f":"RTD(\"esrtd\",,\"NG 22!\",\"Change\")","v":-2.9000000000000359E-2},{"$f":"RTD(\"esrtd\",,\"NG 22!\",\"PrevPrice\")","v":3.8290000000000002},{"$f":"RTD(\"esrtd\",,\"NG 22!\",\"NewSettlement\")","v":""},"",{"$f":"RTD(\"esrtd\",,\"NG 22!\",\"Expiration\")","v":"2016-08-29T08:00:00"},null,{"$f":"RollingYear(3)","v":"CAL 2017"},4.0207083333333333,4.0460000000000003,{"$f":"IF(OR(N26=\"\",J7=\"\"),\"\",calng(N26,10))","v":""},""]
[{"$f":"RTD(\"esrtd\",,\"NG 23!\",\"Delivery\")","v":"Oct'16"},{"$f":"RTD(\"esrtd\",,\"NG 22!:23!\",\"Market\")","v":-2.5000000000000001E-2},-2.4000000000000021E-2,null,3.8235000000000006,-2.9499999999999638E-2,{"$f":"RTD(\"esrtd\",,\"NG 23!\",\"Last\")","v":3.8170000000000002},{"$f":"RTD(\"esrtd\",,\"NG 23!\",\"Change\")","v":-3.6000000000000032E-2},{"$f":"RTD(\"esrtd\",,\"NG 23!\",\"PrevPrice\")","v":3.8530000000000002},{"$f":"RTD(\"esrtd\",,\"NG 23!\",\"NewSettlement\")","v":""},"",{"$f":"RTD(\"esrtd\",,\"NG 23!\",\"Expiration\")","v":"2016-09-28T08:00:00"},null,{"$f":"RollingYear(4)","v":"CAL 2018"},4.1633333333333331,4.1840833333333327,{"$f":"IF(OR(N27=\"\",J8=\"\"),\"\",calng(N27,10))","v":""},""]
[{"$f":"RTD(\"esrtd\",,\"NG 24!\",\"Delivery\")","v":"Nov'16"},{"$f":"RTD(\"esrtd\",,\"NG 23!:24!\",\"Market\")","v":-6.6000000000000003E-2},-6.999999999999984E-2,null,3.8895000000000004,-3.3499999999999641E-2,{"$f":"RTD(\"esrtd\",,\"NG 24!\",\"Last\")","v":3.895},{"$f":"RTD(\"esrtd\",,\"NG 24!\",\"Change\")","v":-2.8000000000000025E-2},{"$f":"RTD(\"esrtd\",,\"NG 24!\",\"PrevPrice\")","v":3.923},{"$f":"RTD(\"esrtd\",,\"NG 24!\",\"NewSettlement\")","v":""},"",{"$f":"RTD(\"esrtd\",,\"NG 24!\",\"Expiration\")","v":"2016-10-27T08:00:00"},null,{"$f":"RollingYear(5)","v":"CAL 2019"},4.302416666666665,4.3174166666666656,{"$f":"IF(OR(N28=\"\",J9=\"\"),\"\",calng(N28,10))","v":""},""]
[{"$f":"RTD(\"esrtd\",,\"NG 25!\",\"Delivery\")","v":"Dec'16"},{"$f":"RTD(\"esrtd\",,\"NG 24!:25!\",\"Market\")","v":-0.17699999999999999},-0.16999999999999993,null,4.0665000000000004,-2.6499999999999524E-2,{"$f":"RTD(\"esrtd\",,\"NG 25!\",\"Last\")","v":4.0739999999999998},{"$f":"RTD(\"esrtd\",,\"NG 25!\",\"Change\")","v":-1.9000000000000128E-2},{"$f":"RTD(\"esrtd\",,\"NG 25!\",\"PrevPrice\")","v":4.093},{"$f":"RTD(\"esrtd\",,\"NG 25!\",\"NewSettlement\")","v":""},"",{"$f":"RTD(\"esrtd\",,\"NG 25!\",\"Expiration\")","v":"2016-11-28T07:00:00"},null,{"$f":"RollingYear(6)","v":"CAL 2020"},4.4397499999999992,4.4547499999999998,{"$f":"IF(OR(N29=\"\",J10=\"\"),\"\",calng(N29,10))","v":""},""]
[{"$f":"RTD(\"esrtd\",,\"NG 26!\",\"Delivery\")","v":"Jan'17"},{"$f":"RTD(\"esrtd\",,\"NG 25!:26!\",\"Market\")","v":-0.13500000000000001},-0.13499999999999979,null,4.2015000000000002,-2.6499999999999524E-2,{"$f":"RTD(\"esrtd\",,\"NG 26!\",\"Last\")","v":4.1989999999999998},{"$f":"RTD(\"esrtd\",,\"NG 26!\",\"Change\")","v":-2.8999999999999915E-2},{"$f":"RTD(\"esrtd\",,\"NG 26!\",\"PrevPrice\")","v":4.2279999999999998},{"$f":"RTD(\"esrtd\",,\"NG 26!\",\"NewSettlement\")","v":""},"",{"$f":"RTD(\"esrtd\",,\"NG 26!\",\"Expiration\")","v":"2016-12-28T07:00:00"},null,{"$f":"RollingYear(7)","v":"CAL 2021"},4.5379166666666659,4.5529166666666665,{"$f":"IF(OR(N30=\"\",J11=\"\"),\"\",calng(N30,10))","v":""},""]
[{"$f":"RTD(\"esrtd\",,\"NG 27!\",\"Delivery\")","v":"Feb'17"},{"$f":"RTD(\"esrtd\",,\"NG 26!:27!\",\"Market\")","v":1.7000000000000001E-2},2.1999999999999353E-2,null,4.1844999999999999,-2.1500000000000519E-2,{"$f":"RTD(\"esrtd\",,\"NG 27!\",\"Last\")","v":""},{"$f":"RTD(\"esrtd\",,\"NG 27!\",\"Change\")","v":""},{"$f":"RTD(\"esrtd\",,\"NG 27!\",\"PrevPrice\")","v":4.2060000000000004},{"$f":"RTD(\"esrtd\",,\"NG 27!\",\"NewSettlement\")","v":""},"",{"$f":"RTD(\"esrtd\",,\"NG 27!\",\"Expiration\")","v":"2017-01-27T07:00:00"},null,{"$f":"RollingYear(8)","v":"CAL 2022"},4.6234999999999991,4.6384999999999996,{"$f":"IF(OR(N31=\"\",J12=\"\"),\"\",calng(N31,10))","v":""},""]
[{"$f":"RTD(\"esrtd\",,\"NG 28!\",\"Delivery\")","v":"Mar'17"},{"$f":"RTD(\"esrtd\",,\"NG 27!:28!\",\"Market\")","v":5.3999999999999999E-2},6.0000000000000497E-2,null,4.1304999999999996,-1.5500000000000291E-2,{"$f":"RTD(\"esrtd\",,\"NG 28!\",\"Last\")","v":""},{"$f":"RTD(\"esrtd\",,\"NG 28!\",\"Change\")","v":""},{"$f":"RTD(\"esrtd\",,\"NG 28!\",\"PrevPrice\")","v":4.1459999999999999},{"$f":"RTD(\"esrtd\",,\"NG 28!\",\"NewSettlement\")","v":""},"",{"$f":"RTD(\"esrtd\",,\"NG 28!\",\"Expiration\")","v":"2017-02-24T07:00:00"},null,{"$f":"RollingYear(9)","v":"CAL 2023"},4.6977500000000001,4.7127500000000007,{"$f":"IF(OR(N32=\"\",J13=\"\"),\"\",calng(N32,10))","v":""},""]
[{"$f":"RTD(\"esrtd\",,\"NG 29!\",\"Delivery\")","v":"Apr'17"},{"$f":"RTD(\"esrtd\",,\"NG 28!:29!\",\"Market\")","v":0.23749999999999999},0.23499999999999988,null,3.8929999999999998,-1.8000000000000238E-2,{"$f":"RTD(\"esrtd\",,\"NG 29!\",\"Last\")","v":3.891},{"$f":"RTD(\"esrtd\",,\"NG 29!\",\"Change\")","v":-2.0000000000000018E-2},{"$f":"RTD(\"esrtd\",,\"NG 29!\",\"PrevPrice\")","v":3.911},{"$f":"RTD(\"esrtd\",,\"NG 29!\",\"NewSettlement\")","v":""},"",{"$f":"RTD(\"esrtd\",,\"NG 29!\",\"Expiration\")","v":"2017-03-29T08:00:00"},null,{"$f":"RollingYear(10)","v":"CAL 2024"},4.7647499999999994,4.7797499999999999,{"$f":"IF(OR(N33=\"\",J14=\"\"),\"\",calng(N33,10))","v":""},""]
[{"$f":"RTD(\"esrtd\",,\"NG 30!\",\"Delivery\")","v":"May'17"},{"$f":"RTD(\"esrtd\",,\"NG 29!:30!\",\"Market\")","v":5.0000000000000001E-3},4.9999999999998934E-3,null,3.8879999999999999,-1.8000000000000238E-2,{"$f":"RTD(\"esrtd\",,\"NG 30!\",\"Last\")","v":""},{"$f":"RTD(\"esrtd\",,\"NG 30!\",\"Change\")","v":""},{"$f":"RTD(\"esrtd\",,\"NG 30!\",\"PrevPrice\")","v":3.9060000000000001},{"$f":"RTD(\"esrtd\",,\"NG 30!\",\"NewSettlement\")","v":""},"",{"$f":"RTD(\"esrtd\",,\"NG 30!\",\"Expiration\")","v":"2017-04-26T08:00:00"},null,{"$f":"RollingYear(11)","v":"CAL 2025"},4.833333333333333,4.8483333333333336,{"$f":"IF(OR(N34=\"\",J15=\"\"),\"\",calng(N34,10))","v":""},""]
[{"$f":"RTD(\"esrtd\",,\"NG 31!\",\"Delivery\")","v":"Jun'17"},{"$f":"RTD(\"esrtd\",,\"NG 30!:31!\",\"Market\")","v":-2.8000000000000001E-2},-2.8000000000000025E-2,null,3.9159999999999999,-1.8000000000000238E-2,{"$f":"RTD(\"esrtd\",,\"NG 31!\",\"Last\")","v":""},{"$f":"RTD(\"esrtd\",,\"NG 31!\",\"Change\")","v":""},{"$f":"RTD(\"esrtd\",,\"NG 31!\",\"PrevPrice\")","v":3.9340000000000002},{"$f":"RTD(\"esrtd\",,\"NG 31!\",\"NewSettlement\")","v":""},"",{"$f":"RTD(\"esrtd\",,\"NG 31!\",\"Expiration\")","v":"2017-05-26T08:00:00"}]
[{"$f":"RTD(\"esrtd\",,\"NG 32!\",\"Delivery\")","v":"Jul'17"},{"$f":"RTD(\"esrtd\",,\"NG 31!:32!\",\"Market\")","v":-0.02},-3.2999999999999918E-2,null,3.9359999999999999,-3.1000000000000139E-2,{"$f":"RTD(\"esrtd\",,\"NG 32!\",\"Last\")","v":""},{"$f":"RTD(\"esrtd\",,\"NG 32!\",\"Change\")","v":""},{"$f":"RTD(\"esrtd\",,\"NG 32!\",\"PrevPrice\")","v":3.9670000000000001},{"$f":"RTD(\"esrtd\",,\"NG 32!\",\"NewSettlement\")","v":""},"",{"$f":"RTD(\"esrtd\",,\"NG 32!\",\"Expiration\")","v":"2017-06-28T08:00:00"},null,"Seasonals"]
[{"$f":"RTD(\"esrtd\",,\"NG 33!\",\"Delivery\")","v":"Aug'17"},{"$f":"RTD(\"esrtd\",,\"NG 32!:33!\",\"Market\")","v":-1.0999999999999999E-2},-1.1000000000000121E-2,null,3.9470000000000001,-3.1000000000000139E-2,{"$f":"RTD(\"esrtd\",,\"NG 33!\",\"Last\")","v":""},{"$f":"RTD(\"esrtd\",,\"NG 33!\",\"Change\")","v":""},{"$f":"RTD(\"esrtd\",,\"NG 33!\",\"PrevPrice\")","v":3.9780000000000002},{"$f":"RTD(\"esrtd\",,\"NG 33!\",\"NewSettlement\")","v":""},"",{"$f":"RTD(\"esrtd\",,\"NG 33!\",\"Expiration\")","v":"2017-07-27T08:00:00"}]
[{"$f":"RTD(\"esrtd\",,\"NG 34!\",\"Delivery\")","v":"Sep'17"},{"$f":"RTD(\"esrtd\",,\"NG 33!:34!\",\"Market\")","v":0.01},1.0000000000000231E-2,null,3.9370000000000003,-3.0999999999999694E-2,{"$f":"RTD(\"esrtd\",,\"NG 34!\",\"Last\")","v":""},{"$f":"RTD(\"esrtd\",,\"NG 34!\",\"Change\")","v":""},{"$f":"RTD(\"esrtd\",,\"NG 34!\",\"PrevPrice\")","v":3.968},{"$f":"RTD(\"esrtd\",,\"NG 34!\",\"NewSettlement\")","v":""},"",{"$f":"RTD(\"esrtd\",,\"NG 34!\",\"Expiration\")","v":"2017-08-29T08:00:00"},null,"Season","Implied","OldSet","NewSet","Chg"]
[{"$f":"RTD(\"esrtd\",,\"NG 35!\",\"Delivery\")","v":"Oct'17"},{"$f":"RTD(\"esrtd\",,\"NG 34!:35!\",\"Market\")","v":-2.4E-2},-2.4000000000000021E-2,null,3.9610000000000003,-3.0999999999999694E-2,{"$f":"RTD(\"esrtd\",,\"NG 35!\",\"Last\")","v":""},{"$f":"RTD(\"esrtd\",,\"NG 35!\",\"Change\")","v":""},{"$f":"RTD(\"esrtd\",,\"NG 35!\",\"PrevPrice\")","v":3.992},{"$f":"RTD(\"esrtd\",,\"NG 35!\",\"NewSettlement\")","v":""},"",{"$f":"RTD(\"esrtd\",,\"NG 35!\",\"Expiration\")","v":"2017-09-27T08:00:00"},null,"SUMMER 2015",{"$f":"IF(N39=\"\",\"\",ngsumwinstrip(N39,5))","v":3.7275714285714301},{"$f":"IF(N39=\"\",\"\",ngsumwinstrip(N39,9))","v":3.7445714285714291},{"$f":"IF(OR(N39=\"\",J5=\"\"),\"\",ngsumwinstrip(N39,10))","v":""},{"$f":"IF(AND(P39<>\"\",Q39<>\"\"),Q39-P39,\"\")","v":""}]
[{"$f":"RTD(\"esrtd\",,\"NG 36!\",\"Delivery\")","v":"Nov'17"},{"$f":"RTD(\"esrtd\",,\"NG 35!:36!\",\"Market\")","v":-8.1000000000000003E-2},-8.1000000000000405E-2,null,4.0420000000000007,-3.0999999999999694E-2,{"$f":"RTD(\"esrtd\",,\"NG 36!\",\"Last\")","v":""},{"$f":"RTD(\"esrtd\",,\"NG 36!\",\"Change\")","v":""},{"$f":"RTD(\"esrtd\",,\"NG 36!\",\"PrevPrice\")","v":4.0730000000000004},{"$f":"RTD(\"esrtd\",,\"NG 36!\",\"NewSettlement\")","v":""},"",{"$f":"RTD(\"esrtd\",,\"NG 36!\",\"Expiration\")","v":"2017-10-27T08:00:00"},null,"WINTER 2015",{"$f":"IF(N40=\"\",\"\",ngsumwinstrip(N40,5))","v":4.013300000000001},{"$f":"IF(N40=\"\",\"\",ngsumwinstrip(N40,9))","v":4.0331999999999999},{"$f":"IF(OR(N40=\"\",J6=\"\"),\"\",ngsumwinstrip(N40,10))","v":""},{"$f":"IF(AND(P40<>\"\",Q40<>\"\"),Q40-P40,\"\")","v":""}]
[{"$f":"RTD(\"esrtd\",,\"NG 37!\",\"Delivery\")","v":"Dec'17"},{"$f":"RTD(\"esrtd\",,\"NG 36!:37!\",\"Market\")","v":-0.17},-0.16999999999999993,null,4.2120000000000006,-3.0999999999999694E-2,{"$f":"RTD(\"esrtd\",,\"NG 37!\",\"Last\")","v":4.2350000000000003},{"$f":"RTD(\"esrtd\",,\"NG 37!\",\"Change\")","v":-8.0000000000000071E-3},{"$f":"RTD(\"esrtd\",,\"NG 37!\",\"PrevPrice\")","v":4.2430000000000003},{"$f":"RTD(\"esrtd\",,\"NG 37!\",\"NewSettlement\")","v":""},"",{"$f":"RTD(\"esrtd\",,\"NG 37!\",\"Expiration\")","v":"2017-11-28T07:00:00"},null,"SUMMER 2016",3.7937142857142865,3.8210000000000006,{"$f":"IF(OR(N41=\"\",J7=\"\"),\"\",ngsumwinstrip(N41,10))","v":""},{"$f":"IF(AND(P41<>\"\",Q41<>\"\"),Q41-P41,\"\")","v":""}]
[{"$f":"RTD(\"esrtd\",,\"NG 38!\",\"Delivery\")","v":"Jan'18"},{"$f":"RTD(\"esrtd\",,\"NG 37!:38!\",\"Market\")","v":-0.13200000000000001},-0.13199999999999967,null,4.3440000000000003,-3.0999999999999694E-2,{"$f":"RTD(\"esrtd\",,\"NG 38!\",\"Last\")","v":""},{"$f":"RTD(\"esrtd\",,\"NG 38!\",\"Change\")","v":""},{"$f":"RTD(\"esrtd\",,\"NG 38!\",\"PrevPrice\")","v":4.375},{"$f":"RTD(\"esrtd\",,\"NG 38!\",\"NewSettlement\")","v":""},"",{"$f":"RTD(\"esrtd\",,\"NG 38!\",\"Expiration\")","v":"2017-12-27T07:00:00"},null,"WINTER 2016",4.0945000000000009,4.1192000000000002,{"$f":"IF(OR(N42=\"\",J8=\"\"),\"\",ngsumwinstrip(N42,10))","v":""},""]
[{"$f":"RTD(\"esrtd\",,\"NG 39!\",\"Delivery\")","v":"Feb'18"},{"$f":"RTD(\"esrtd\",,\"NG 38!:39!\",\"Market\")","v":2.1999999999999999E-2},2.2000000000000242E-2,null,4.3220000000000001,-3.0999999999999694E-2,{"$f":"RTD(\"esrtd\",,\"NG 39!\",\"Last\")","v":""},{"$f":"RTD(\"esrtd\",,\"NG 39!\",\"Change\")","v":""},{"$f":"RTD(\"esrtd\",,\"NG 39!\",\"PrevPrice\")","v":4.3529999999999998},{"$f":"RTD(\"esrtd\",,\"NG 39!\",\"NewSettlement\")","v":""},"",{"$f":"RTD(\"esrtd\",,\"NG 39!\",\"Expiration\")","v":"2018-01-29T07:00:00"},null,"SUMMER 2017",3.9254285714285717,3.9508571428571431,{"$f":"IF(OR(N43=\"\",J9=\"\"),\"\",ngsumwinstrip(N43,10))","v":""},""]
[{"$f":"RTD(\"esrtd\",,\"NG 40!\",\"Delivery\")","v":"Mar'18"},{"$f":"RTD(\"esrtd\",,\"NG 39!:40!\",\"Market\")","v":0.06},5.9999999999999609E-2,null,4.2620000000000005,-3.0999999999999694E-2,{"$f":"RTD(\"esrtd\",,\"NG 40!\",\"Last\")","v":""},{"$f":"RTD(\"esrtd\",,\"NG 40!\",\"Change\")","v":""},{"$f":"RTD(\"esrtd\",,\"NG 40!\",\"PrevPrice\")","v":4.2930000000000001},{"$f":"RTD(\"esrtd\",,\"NG 40!\",\"NewSettlement\")","v":""},"",{"$f":"RTD(\"esrtd\",,\"NG 40!\",\"Expiration\")","v":"2018-02-26T07:00:00"},null,"SUMMER 2018",4.0658571428571424,4.0838571428571422,{"$f":"IF(OR(N44=\"\",J10=\"\"),\"\",ngsumwinstrip(N44,10))","v":""},""]
[{"$f":"RTD(\"esrtd\",,\"NG 41!\",\"Delivery\")","v":"Apr'18"},{"$f":"RTD(\"esrtd\",,\"NG 40!:41!\",\"Market\")","v":0.255},0.25,null,4.0070000000000006,-3.5999999999999588E-2,{"$f":"RTD(\"esrtd\",,\"NG 41!\",\"Last\")","v":""},{"$f":"RTD(\"esrtd\",,\"NG 41!\",\"Change\")","v":""},{"$f":"RTD(\"esrtd\",,\"NG 41!\",\"PrevPrice\")","v":4.0430000000000001},{"$f":"RTD(\"esrtd\",,\"NG 41!\",\"NewSettlement\")","v":""},"",{"$f":"RTD(\"esrtd\",,\"NG 41!\",\"Expiration\")","v":"2018-03-27T08:00:00"},null,"SUMMER 2018",4.0658571428571424,4.0838571428571422,{"$f":"IF(OR(N45=\"\",J11=\"\"),\"\",ngsumwinstrip(N45,10))","v":""},""]
[{"$f":"RTD(\"esrtd\",,\"NG 42!\",\"Delivery\")","v":"May'18"},{"$f":"RTD(\"esrtd\",,\"NG 41!:42!\",\"Market\")","v":-1.6E-2},4.9999999999998934E-3,null,4.0230000000000006,-1.499999999999968E-2,{"$f":"RTD(\"esrtd\",,\"NG 42!\",\"Last\")","v":""},{"$f":"RTD(\"esrtd\",,\"NG 42!\",\"Change\")","v":""},{"$f":"RTD(\"esrtd\",,\"NG 42!\",\"PrevPrice\")","v":4.0380000000000003},{"$f":"RTD(\"esrtd\",,\"NG 42!\",\"NewSettlement\")","v":""},"",{"$f":"RTD(\"esrtd\",,\"NG 42!\",\"Expiration\")","v":"2018-04-26T08:00:00"},null,"WINTER 2018",4.395999999999999,4.4109999999999996,{"$f":"IF(OR(N46=\"\",J12=\"\"),\"\",ngsumwinstrip(N46,10))","v":""},""]
[{"$f":"RTD(\"esrtd\",,\"NG 43!\",\"Delivery\")","v":"Jun'18"},{"$f":"RTD(\"esrtd\",,\"NG 42!:43!\",\"Market\")","v":-2.8000000000000001E-2},-2.7999999999999581E-2,null,4.0510000000000002,-1.499999999999968E-2,{"$f":"RTD(\"esrtd\",,\"NG 43!\",\"Last\")","v":""},{"$f":"RTD(\"esrtd\",,\"NG 43!\",\"Change\")","v":""},{"$f":"RTD(\"esrtd\",,\"NG 43!\",\"PrevPrice\")","v":4.0659999999999998},{"$f":"RTD(\"esrtd\",,\"NG 43!\",\"NewSettlement\")","v":""},"",{"$f":"RTD(\"esrtd\",,\"NG 43!\",\"Expiration\")","v":"2018-05-29T08:00:00"},null,"SUMMER 2019",4.1952857142857143,4.2102857142857149,{"$f":"IF(OR(N47=\"\",J13=\"\"),\"\",ngsumwinstrip(N47,10))","v":""},""]
[{"$f":"RTD(\"esrtd\",,\"NG 44!\",\"Delivery\")","v":"Jul'18"},{"$f":"RTD(\"esrtd\",,\"NG 43!:44!\",\"Market\")","v":-3.2000000000000001E-2},-3.2000000000000028E-2,null,4.0830000000000002,-1.499999999999968E-2,{"$f":"RTD(\"esrtd\",,\"NG 44!\",\"Last\")","v":""},{"$f":"RTD(\"esrtd\",,\"NG 44!\",\"Change\")","v":""},{"$f":"RTD(\"esrtd\",,\"NG 44!\",\"PrevPrice\")","v":4.0979999999999999},{"$f":"RTD(\"esrtd\",,\"NG 44!\",\"NewSettlement\")","v":""},"",{"$f":"RTD(\"esrtd\",,\"NG 44!\",\"Expiration\")","v":"2018-06-27T08:00:00"},null,"WINTER 2019",4.5381999999999989,4.5531999999999995,{"$f":"IF(OR(N48=\"\",J14=\"\"),\"\",ngsumwinstrip(N48,10))","v":""},""]
[{"$f":"RTD(\"esrtd\",,\"NG 45!\",\"Delivery\")","v":"Aug'18"},{"$f":"RTD(\"esrtd\",,\"NG 44!:45!\",\"Market\")","v":-1.2E-2},-1.2000000000000455E-2,null,4.0949999999999998,-1.5000000000000568E-2,{"$f":"RTD(\"esrtd\",,\"NG 45!\",\"Last\")","v":""},{"$f":"RTD(\"esrtd\",,\"NG 45!\",\"Change\")","v":""},{"$f":"RTD(\"esrtd\",,\"NG 45!\",\"PrevPrice\")","v":4.1100000000000003},{"$f":"RTD(\"esrtd\",,\"NG 45!\",\"NewSettlement\")","v":""},"",{"$f":"RTD(\"esrtd\",,\"NG 45!\",\"Expiration\")","v":"2018-07-27T08:00:00"},null,"SUMMER 2020",4.3297142857142852,4.3447142857142858,{"$f":"IF(OR(N49=\"\",J15=\"\"),\"\",ngsumwinstrip(N49,10))","v":""},""]
[{"$f":"RTD(\"esrtd\",,\"NG 46!\",\"Delivery\")","v":"Sep'18"},{"$f":"RTD(\"esrtd\",,\"NG 45!:46!\",\"Market\")","v":6.0000000000000001E-3},6.0000000000002274E-3,null,4.0889999999999995,-1.5000000000000568E-2,{"$f":"RTD(\"esrtd\",,\"NG 46!\",\"Last\")","v":""},{"$f":"RTD(\"esrtd\",,\"NG 46!\",\"Change\")","v":""},{"$f":"RTD(\"esrtd\",,\"NG 46!\",\"PrevPrice\")","v":4.1040000000000001},{"$f":"RTD(\"esrtd\",,\"NG 46!\",\"NewSettlement\")","v":""},"",{"$f":"RTD(\"esrtd\",,\"NG 46!\",\"Expiration\")","v":"2018-08-29T08:00:00"}]
[{"$f":"RTD(\"esrtd\",,\"NG 47!\",\"Delivery\")","v":"Oct'18"},{"$f":"RTD(\"esrtd\",,\"NG 46!:47!\",\"Market\")","v":-2.4E-2},-2.4000000000000021E-2,null,4.1129999999999995,-1.5000000000000568E-2,{"$f":"RTD(\"esrtd\",,\"NG 47!\",\"Last\")","v":""},{"$f":"RTD(\"esrtd\",,\"NG 47!\",\"Change\")","v":""},{"$f":"RTD(\"esrtd\",,\"NG 47!\",\"PrevPrice\")","v":4.1280000000000001},{"$f":"RTD(\"esrtd\",,\"NG 47!\",\"NewSettlement\")","v":""},"",{"$f":"RTD(\"esrtd\",,\"NG 47!\",\"Expiration\")","v":"2018-09-26T08:00:00"}]
[{"$f":"RTD(\"esrtd\",,\"NG 48!\",\"Delivery\")","v":"Nov'18"},{"$f":"RTD(\"esrtd\",,\"NG 47!:48!\",\"Market\")","v":-8.5000000000000006E-2},-8.4999999999999964E-2,null,4.1979999999999995,-1.5000000000000568E-2,{"$f":"RTD(\"esrtd\",,\"NG 48!\",\"Last\")","v":""},{"$f":"RTD(\"esrtd\",,\"NG 48!\",\"Change\")","v":""},{"$f":"RTD(\"esrtd\",,\"NG 48!\",\"PrevPrice\")","v":4.2130000000000001},{"$f":"RTD(\"esrtd\",,\"NG 48!\",\"NewSettlement\")","v":""},"",{"$f":"RTD(\"esrtd\",,\"NG 48!\",\"Expiration\")","v":"2018-10-29T08:00:00"}]
[{"$f":"RTD(\"esrtd\",,\"NG 49!\",\"Delivery\")","v":"Dec'18"},{"$f":"RTD(\"esrtd\",,\"NG 48!:49!\",\"Market\")","v":-0.17499999999999999},-0.17499999999999982,null,4.3729999999999993,-1.5000000000000568E-2,{"$f":"RTD(\"esrtd\",,\"NG 49!\",\"Last\")","v":""},{"$f":"RTD(\"esrtd\",,\"NG 49!\",\"Change\")","v":""},{"$f":"RTD(\"esrtd\",,\"NG 49!\",\"PrevPrice\")","v":4.3879999999999999},{"$f":"RTD(\"esrtd\",,\"NG 49!\",\"NewSettlement\")","v":""},"",{"$f":"RTD(\"esrtd\",,\"NG 49!\",\"Expiration\")","v":"2018-11-28T07:00:00"}]
[{"$f":"RTD(\"esrtd\",,\"NG 50!\",\"Delivery\")","v":"Jan'19"},{"$f":"RTD(\"esrtd\",,\"NG 49!:50!\",\"Market\")","v":""},-0.13199999999999967,null,4.504999999999999,-1.5000000000000568E-2,{"$f":"RTD(\"esrtd\",,\"NG 50!\",\"Last\")","v":""},{"$f":"RTD(\"esrtd\",,\"NG 50!\",\"Change\")","v":""},{"$f":"RTD(\"esrtd\",,\"NG 50!\",\"PrevPrice\")","v":4.5199999999999996},{"$f":"RTD(\"esrtd\",,\"NG 50!\",\"NewSettlement\")","v":""},"",{"$f":"RTD(\"esrtd\",,\"NG 50!\",\"Expiration\")","v":"2018-12-27T07:00:00"}]
[{"$f":"RTD(\"esrtd\",,\"NG 51!\",\"Delivery\")","v":"Feb'19"},{"$f":"RTD(\"esrtd\",,\"NG 50!:51!\",\"Market\")","v":""},2.1999999999999353E-2,null,4.4829999999999997,-1.5000000000000568E-2,{"$f":"RTD(\"esrtd\",,\"NG 51!\",\"Last\")","v":""},{"$f":"RTD(\"esrtd\",,\"NG 51!\",\"Change\")","v":""},{"$f":"RTD(\"esrtd\",,\"NG 51!\",\"PrevPrice\")","v":4.4980000000000002},{"$f":"RTD(\"esrtd\",,\"NG 51!\",\"NewSettlement\")","v":""},"",{"$f":"RTD(\"esrtd\",,\"NG 51!\",\"Expiration\")","v":"2019-01-29T07:00:00"}]
[{"$f":"RTD(\"esrtd\",,\"NG 52!\",\"Delivery\")","v":"Mar'19"},{"$f":"RTD(\"esrtd\",,\"NG 51!:52!\",\"Market\")","v":""},6.2000000000000277E-2,null,4.4209999999999994,-1.5000000000000568E-2,{"$f":"RTD(\"esrtd\",,\"NG 52!\",\"Last\")","v":""},{"$f":"RTD(\"esrtd\",,\"NG 52!\",\"Change\")","v":""},{"$f":"RTD(\"esrtd\",,\"NG 52!\",\"PrevPrice\")","v":4.4359999999999999},{"$f":"RTD(\"esrtd\",,\"NG 52!\",\"NewSettlement\")","v":""},"",{"$f":"RTD(\"esrtd\",,\"NG 52!\",\"Expiration\")","v":"2019-02-26T07:00:00"}]
[{"$f":"RTD(\"esrtd\",,\"NG 53!\",\"Delivery\")","v":"Apr'19"},{"$f":"RTD(\"esrtd\",,\"NG 52!:53!\",\"Market\")","v":""},0.28000000000000025,null,4.1409999999999991,-1.5000000000000568E-2,{"$f":"RTD(\"esrtd\",,\"NG 53!\",\"Last\")","v":""},{"$f":"RTD(\"esrtd\",,\"NG 53!\",\"Change\")","v":""},{"$f":"RTD(\"esrtd\",,\"NG 53!\",\"PrevPrice\")","v":4.1559999999999997},{"$f":"RTD(\"esrtd\",,\"NG 53!\",\"NewSettlement\")","v":""},"",{"$f":"RTD(\"esrtd\",,\"NG 53!\",\"Expiration\")","v":"2019-03-27T08:00:00"}]
[{"$f":"RTD(\"esrtd\",,\"NG 54!\",\"Delivery\")","v":"May'19"},{"$f":"RTD(\"esrtd\",,\"NG 53!:54!\",\"Market\")","v":""},-1.0000000000000675E-2,null,4.1509999999999998,-1.5000000000000568E-2,{"$f":"RTD(\"esrtd\",,\"NG 54!\",\"Last\")","v":""},{"$f":"RTD(\"esrtd\",,\"NG 54!\",\"Change\")","v":""},{"$f":"RTD(\"esrtd\",,\"NG 54!\",\"PrevPrice\")","v":4.1660000000000004},{"$f":"RTD(\"esrtd\",,\"NG 54!\",\"NewSettlement\")","v":""},"",{"$f":"RTD(\"esrtd\",,\"NG 54!\",\"Expiration\")","v":"2019-04-26T08:00:00"}]
[{"$f":"RTD(\"esrtd\",,\"NG 55!\",\"Delivery\")","v":"Jun'19"},{"$f":"RTD(\"esrtd\",,\"NG 54!:55!\",\"Market\")","v":""},-2.7999999999999581E-2,null,4.1789999999999994,-1.5000000000000568E-2,{"$f":"RTD(\"esrtd\",,\"NG 55!\",\"Last\")","v":""},{"$f":"RTD(\"esrtd\",,\"NG 55!\",\"Change\")","v":""},{"$f":"RTD(\"esrtd\",,\"NG 55!\",\"PrevPrice\")","v":4.194},{"$f":"RTD(\"esrtd\",,\"NG 55!\",\"NewSettlement\")","v":""},"",{"$f":"RTD(\"esrtd\",,\"NG 55!\",\"Expiration\")","v":"2019-05-29T08:00:00"}]
[{"$f":"RTD(\"esrtd\",,\"NG 56!\",\"Delivery\")","v":"Jul'19"},{"$f":"RTD(\"esrtd\",,\"NG 55!:56!\",\"Market\")","v":""},-3.0999999999999694E-2,null,4.2099999999999991,-1.5000000000000568E-2,{"$f":"RTD(\"esrtd\",,\"NG 56!\",\"Last\")","v":""},{"$f":"RTD(\"esrtd\",,\"NG 56!\",\"Change\")","v":""},{"$f":"RTD(\"esrtd\",,\"NG 56!\",\"PrevPrice\")","v":4.2249999999999996},{"$f":"RTD(\"esrtd\",,\"NG 56!\",\"NewSettlement\")","v":""},"",{"$f":"RTD(\"esrtd\",,\"NG 56!\",\"Expiration\")","v":"2019-06-26T08:00:00"}]
[{"$f":"RTD(\"esrtd\",,\"NG 57!\",\"Delivery\")","v":"Aug'19"},{"$f":"RTD(\"esrtd\",,\"NG 56!:57!\",\"Market\")","v":""},-1.4000000000000234E-2,null,4.2239999999999993,-1.5000000000000568E-2,{"$f":"RTD(\"esrtd\",,\"NG 57!\",\"Last\")","v":""},{"$f":"RTD(\"esrtd\",,\"NG 57!\",\"Change\")","v":""},{"$f":"RTD(\"esrtd\",,\"NG 57!\",\"PrevPrice\")","v":4.2389999999999999},{"$f":"RTD(\"esrtd\",,\"NG 57!\",\"NewSettlement\")","v":""},"",{"$f":"RTD(\"esrtd\",,\"NG 57!\",\"Expiration\")","v":"2019-07-29T08:00:00"}]
[{"$f":"RTD(\"esrtd\",,\"NG 58!\",\"Delivery\")","v":"Sep'19"},{"$f":"RTD(\"esrtd\",,\"NG 57!:58!\",\"Market\")","v":""},6.0000000000002274E-3,null,4.2179999999999991,-1.5000000000000568E-2,{"$f":"RTD(\"esrtd\",,\"NG 58!\",\"Last\")","v":""},{"$f":"RTD(\"esrtd\",,\"NG 58!\",\"Change\")","v":""},{"$f":"RTD(\"esrtd\",,\"NG 58!\",\"PrevPrice\")","v":4.2329999999999997},{"$f":"RTD(\"esrtd\",,\"NG 58!\",\"NewSettlement\")","v":""},"",{"$f":"RTD(\"esrtd\",,\"NG 58!\",\"Expiration\")","v":"2019-08-28T08:00:00"}]
[{"$f":"RTD(\"esrtd\",,\"NG 59!\",\"Delivery\")","v":"Oct'19"},{"$f":"RTD(\"esrtd\",,\"NG 58!:59!\",\"Market\")","v":""},-2.6000000000000689E-2,null,4.2439999999999998,-1.5000000000000568E-2,{"$f":"RTD(\"esrtd\",,\"NG 59!\",\"Last\")","v":""},{"$f":"RTD(\"esrtd\",,\"NG 59!\",\"Change\")","v":""},{"$f":"RTD(\"esrtd\",,\"NG 59!\",\"PrevPrice\")","v":4.2590000000000003},{"$f":"RTD(\"esrtd\",,\"NG 59!\",\"NewSettlement\")","v":""},"",{"$f":"RTD(\"esrtd\",,\"NG 59!\",\"Expiration\")","v":"2019-09-26T08:00:00"}]
[{"$f":"RTD(\"esrtd\",,\"NG 60!\",\"Delivery\")","v":"Nov'19"},{"$f":"RTD(\"esrtd\",,\"NG 59!:60!\",\"Market\")","v":""},-8.9999999999999858E-2,null,4.3339999999999996,-1.5000000000000568E-2,{"$f":"RTD(\"esrtd\",,\"NG 60!\",\"Last\")","v":""},{"$f":"RTD(\"esrtd\",,\"NG 60!\",\"Change\")","v":""},{"$f":"RTD(\"esrtd\",,\"NG 60!\",\"PrevPrice\")","v":4.3490000000000002},{"$f":"RTD(\"esrtd\",,\"NG 60!\",\"NewSettlement\")","v":""},"",{"$f":"RTD(\"esrtd\",,\"NG 60!\",\"Expiration\")","v":"2019-10-29T08:00:00"}]
[{"$f":"RTD(\"esrtd\",,\"NG 61!\",\"Delivery\")","v":"Dec'19"},{"$f":"RTD(\"esrtd\",,\"NG 60!:61!\",\"Market\")","v":""},-0.18499999999999961,null,4.5189999999999992,-1.5000000000000568E-2,{"$f":"RTD(\"esrtd\",,\"NG 61!\",\"Last\")","v":""},{"$f":"RTD(\"esrtd\",,\"NG 61!\",\"Change\")","v":""},{"$f":"RTD(\"esrtd\",,\"NG 61!\",\"PrevPrice\")","v":4.5339999999999998},{"$f":"RTD(\"esrtd\",,\"NG 61!\",\"NewSettlement\")","v":""},"",{"$f":"RTD(\"esrtd\",,\"NG 61!\",\"Expiration\")","v":"2019-11-26T07:00:00"}]
[{"$f":"RTD(\"esrtd\",,\"NG 62!\",\"Delivery\")","v":"Jan'20"},{"$f":"RTD(\"esrtd\",,\"NG 61!:62!\",\"Market\")","v":""},-0.12999999999999989,null,4.6489999999999991,-1.5000000000000568E-2,{"$f":"RTD(\"esrtd\",,\"NG 62!\",\"Last\")","v":""},{"$f":"RTD(\"esrtd\",,\"NG 62!\",\"Change\")","v":""},{"$f":"RTD(\"esrtd\",,\"NG 62!\",\"PrevPrice\")","v":4.6639999999999997},{"$f":"RTD(\"esrtd\",,\"NG 62!\",\"NewSettlement\")","v":""},"",{"$f":"RTD(\"esrtd\",,\"NG 62!\",\"Expiration\")","v":"2019-12-27T07:00:00"}]
[{"$f":"RTD(\"esrtd\",,\"NG 63!\",\"Delivery\")","v":"Feb'20"},{"$f":"RTD(\"esrtd\",,\"NG 62!:63!\",\"Market\")","v":""},2.2999999999999687E-2,null,4.6259999999999994,-1.5000000000000568E-2,{"$f":"RTD(\"esrtd\",,\"NG 63!\",\"Last\")","v":""},{"$f":"RTD(\"esrtd\",,\"NG 63!\",\"Change\")","v":""},{"$f":"RTD(\"esrtd\",,\"NG 63!\",\"PrevPrice\")","v":4.641},{"$f":"RTD(\"esrtd\",,\"NG 63!\",\"NewSettlement\")","v":""},"",{"$f":"RTD(\"esrtd\",,\"NG 63!\",\"Expiration\")","v":"2020-01-29T07:00:00"}]
[{"$f":"RTD(\"esrtd\",,\"NG 64!\",\"Delivery\")","v":"Mar'20"},{"$f":"RTD(\"esrtd\",,\"NG 63!:64!\",\"Market\")","v":""},6.2999999999999723E-2,null,4.5629999999999997,-1.5000000000000568E-2,{"$f":"RTD(\"esrtd\",,\"NG 64!\",\"Last\")","v":""},{"$f":"RTD(\"esrtd\",,\"NG 64!\",\"Change\")","v":""},{"$f":"RTD(\"esrtd\",,\"NG 64!\",\"PrevPrice\")","v":4.5780000000000003},{"$f":"RTD(\"esrtd\",,\"NG 64!\",\"NewSettlement\")","v":""},"",{"$f":"RTD(\"esrtd\",,\"NG 64!\",\"Expiration\")","v":"2020-02-26T07:00:00"}]
[{"$f":"RTD(\"esrtd\",,\"NG 65!\",\"Delivery\")","v":"Apr'20"},{"$f":"RTD(\"esrtd\",,\"NG 64!:65!\",\"Market\")","v":""},0.29000000000000004,null,4.2729999999999997,-1.5000000000000568E-2,{"$f":"RTD(\"esrtd\",,\"NG 65!\",\"Last\")","v":""},{"$f":"RTD(\"esrtd\",,\"NG 65!\",\"Change\")","v":""},{"$f":"RTD(\"esrtd\",,\"NG 65!\",\"PrevPrice\")","v":4.2880000000000003},{"$f":"RTD(\"esrtd\",,\"NG 65!\",\"NewSettlement\")","v":""},"",{"$f":"RTD(\"esrtd\",,\"NG 65!\",\"Expiration\")","v":"2020-03-27T08:00:00"}]
[{"$f":"RTD(\"esrtd\",,\"NG 66!\",\"Delivery\")","v":"May'20"},{"$f":"RTD(\"esrtd\",,\"NG 65!:66!\",\"Market\")","v":""},-1.2999999999999901E-2,null,4.2859999999999996,{"$f":"IF(AND(E70<>\"\",I70<>\"\"),E70-I70,\"\")","v":-1.5000000000000568E-2},{"$f":"RTD(\"esrtd\",,\"NG 66!\",\"Last\")","v":""},{"$f":"RTD(\"esrtd\",,\"NG 66!\",\"Change\")","v":""},{"$f":"RTD(\"esrtd\",,\"NG 66!\",\"PrevPrice\")","v":4.3010000000000002},{"$f":"RTD(\"esrtd\",,\"NG 66!\",\"NewSettlement\")","v":""},{"$f":"IF(AND(I70<>\"\",J70<>\"\"),J70-I70,\"\")","v":""},{"$f":"RTD(\"esrtd\",,\"NG 66!\",\"Expiration\")","v":"2020-04-28T08:00:00"}]
[{"$f":"RTD(\"esrtd\",,\"NG 67!\",\"Delivery\")","v":"Jun'20"},{"$f":"RTD(\"esrtd\",,\"NG 66!:67!\",\"Market\")","v":""},-2.4999999999999467E-2,null,4.3109999999999991,-1.5000000000000568E-2,{"$f":"RTD(\"esrtd\",,\"NG 67!\",\"Last\")","v":""},{"$f":"RTD(\"esrtd\",,\"NG 67!\",\"Change\")","v":""},{"$f":"RTD(\"esrtd\",,\"NG 67!\",\"PrevPrice\")","v":4.3259999999999996},{"$f":"RTD(\"esrtd\",,\"NG 67!\",\"NewSettlement\")","v":""},"",{"$f":"RTD(\"esrtd\",,\"NG 67!\",\"Expiration\")","v":"2020-05-27T08:00:00"}]
[{"$f":"RTD(\"esrtd\",,\"NG 68!\",\"Delivery\")","v":"Jul'20"},{"$f":"RTD(\"esrtd\",,\"NG 67!:68!\",\"Market\")","v":""},{"$f":"I71-I72","v":-2.8000000000000469E-2},null,4.3389999999999995,-1.5000000000000568E-2,{"$f":"RTD(\"esrtd\",,\"NG 68!\",\"Last\")","v":""},{"$f":"RTD(\"esrtd\",,\"NG 68!\",\"Change\")","v":""},{"$f":"RTD(\"esrtd\",,\"NG 68!\",\"PrevPrice\")","v":4.3540000000000001},{"$f":"RTD(\"esrtd\",,\"NG 68!\",\"NewSettlement\")","v":""},"",{"$f":"RTD(\"esrtd\",,\"NG 68!\",\"Expiration\")","v":"2020-06-26T08:00:00"}]
[{"$f":"RTD(\"esrtd\",,\"NG 69!\",\"Delivery\")","v":"Aug'20"},{"$f":"RTD(\"esrtd\",,\"NG 68!:69!\",\"Market\")","v":""},-2.2000000000000242E-2,null,4.3609999999999998,-1.5000000000000568E-2,{"$f":"RTD(\"esrtd\",,\"NG 69!\",\"Last\")","v":""},{"$f":"RTD(\"esrtd\",,\"NG 69!\",\"Change\")","v":""},{"$f":"RTD(\"esrtd\",,\"NG 69!\",\"PrevPrice\")","v":4.3760000000000003},{"$f":"RTD(\"esrtd\",,\"NG 69!\",\"NewSettlement\")","v":""},"",{"$f":"RTD(\"esrtd\",,\"NG 69!\",\"Expiration\")","v":"2020-07-29T08:00:00"}]
[{"$f":"RTD(\"esrtd\",,\"NG 70!\",\"Delivery\")","v":"Sep'20"},{"$f":"RTD(\"esrtd\",,\"NG 69!:70!\",\"Market\")","v":""},6.0000000000002274E-3,null,{"$f":"IF(D74<>\"\",E73-D74,IF(B74<>\"\",E73-B74,E73-C74))","v":4.3549999999999995},-1.5000000000000568E-2,{"$f":"RTD(\"esrtd\",,\"NG 70!\",\"Last\")","v":""},{"$f":"RTD(\"esrtd\",,\"NG 70!\",\"Change\")","v":""},{"$f":"RTD(\"esrtd\",,\"NG 70!\",\"PrevPrice\")","v":4.37},{"$f":"RTD(\"esrtd\",,\"NG 70!\",\"NewSettlement\")","v":""},"",{"$f":"RTD(\"esrtd\",,\"NG 70!\",\"Expiration\")","v":"2020-08-27T08:00:00"}]
[{"$f":"RTD(\"esrtd\",,\"NG 71!\",\"Delivery\")","v":"Oct'20"},{"$f":"RTD(\"esrtd\",,\"NG 70!:71!\",\"Market\")","v":""},-2.7999999999999581E-2,null,4.3829999999999991,-1.5000000000000568E-2,{"$f":"RTD(\"esrtd\",,\"NG 71!\",\"Last\")","v":""},{"$f":"RTD(\"esrtd\",,\"NG 71!\",\"Change\")","v":""},{"$f":"RTD(\"esrtd\",,\"NG 71!\",\"PrevPrice\")","v":4.3979999999999997},{"$f":"RTD(\"esrtd\",,\"NG 71!\",\"NewSettlement\")","v":""},"",{"$f":"RTD(\"esrtd\",,\"NG 71!\",\"Expiration\")","v":"2020-09-28T08:00:00"}]
[{"$f":"RTD(\"esrtd\",,\"NG 72!\",\"Delivery\")","v":"Nov'20"},{"$f":"RTD(\"esrtd\",,\"NG 71!:72!\",\"Market\")","v":""},-9.0000000000000746E-2,null,4.4729999999999999,-1.5000000000000568E-2,{"$f":"RTD(\"esrtd\",,\"NG 72!\",\"Last\")","v":""},{"$f":"RTD(\"esrtd\",,\"NG 72!\",\"Change\")","v":""},{"$f":"RTD(\"esrtd\",,\"NG 72!\",\"PrevPrice\")","v":4.4880000000000004},{"$f":"RTD(\"esrtd\",,\"NG 72!\",\"NewSettlement\")","v":""},"",{"$f":"RTD(\"esrtd\",,\"NG 72!\",\"Expiration\")","v":"2020-10-28T08:00:00"}]
[{"$f":"RTD(\"esrtd\",,\"NG 73!\",\"Delivery\")","v":"Dec'20"},{"$f":"RTD(\"esrtd\",,\"NG 72!:73!\",\"Market\")","v":""},-0.18499999999999961,null,4.6579999999999995,-1.5000000000000568E-2,{"$f":"RTD(\"esrtd\",,\"NG 73!\",\"Last\")","v":""},{"$f":"RTD(\"esrtd\",,\"NG 73!\",\"Change\")","v":""},{"$f":"RTD(\"esrtd\",,\"NG 73!\",\"PrevPrice\")","v":4.673},{"$f":"RTD(\"esrtd\",,\"NG 73!\",\"NewSettlement\")","v":""},"",{"$f":"RTD(\"esrtd\",,\"NG 73!\",\"Expiration\")","v":"2020-11-25T07:00:00"}]
[{"$f":"RTD(\"esrtd\",,\"NG 74!\",\"Delivery\")","v":"Jan'21"},{"$f":"RTD(\"esrtd\",,\"NG 73!:74!\",\"Market\")","v":""},-0.10499999999999954,null,4.762999999999999,-1.5000000000000568E-2,{"$f":"RTD(\"esrtd\",,\"NG 74!\",\"Last\")","v":""},{"$f":"RTD(\"esrtd\",,\"NG 74!\",\"Change\")","v":""},{"$f":"RTD(\"esrtd\",,\"NG 74!\",\"PrevPrice\")","v":4.7779999999999996},{"$f":"RTD(\"esrtd\",,\"NG 74!\",\"NewSettlement\")","v":""},"",{"$f":"RTD(\"esrtd\",,\"NG 74!\",\"Expiration\")","v":"2020-12-29T07:00:00"}]
[{"$f":"RTD(\"esrtd\",,\"NG 75!\",\"Delivery\")","v":"Feb'21"},{"$f":"RTD(\"esrtd\",,\"NG 74!:75!\",\"Market\")","v":""},2.4999999999999467E-2,null,4.7379999999999995,-1.5000000000000568E-2,{"$f":"RTD(\"esrtd\",,\"NG 75!\",\"Last\")","v":""},{"$f":"RTD(\"esrtd\",,\"NG 75!\",\"Change\")","v":""},{"$f":"RTD(\"esrtd\",,\"NG 75!\",\"PrevPrice\")","v":4.7530000000000001},{"$f":"RTD(\"esrtd\",,\"NG 75!\",\"NewSettlement\")","v":""},"",{"$f":"RTD(\"esrtd\",,\"NG 75!\",\"Expiration\")","v":"2021-01-27T07:00:00"}]
[{"$f":"RTD(\"esrtd\",,\"NG 76!\",\"Delivery\")","v":"Mar'21"},{"$f":"RTD(\"esrtd\",,\"NG 75!:76!\",\"Market\")","v":""},6.8000000000000504E-2,null,4.669999999999999,-1.5000000000000568E-2,{"$f":"RTD(\"esrtd\",,\"NG 76!\",\"Last\")","v":""},{"$f":"RTD(\"esrtd\",,\"NG 76!\",\"Change\")","v":""},{"$f":"RTD(\"esrtd\",,\"NG 76!\",\"PrevPrice\")","v":4.6849999999999996},{"$f":"RTD(\"esrtd\",,\"NG 76!\",\"NewSettlement\")","v":""},"",{"$f":"RTD(\"esrtd\",,\"NG 76!\",\"Expiration\")","v":"2021-02-24T07:00:00"}]
[{"$f":"RTD(\"esrtd\",,\"NG 77!\",\"Delivery\")","v":"Apr'21"},{"$f":"RTD(\"esrtd\",,\"NG 76!:77!\",\"Market\")","v":""},0.32499999999999929,null,4.3449999999999998,-1.5000000000000568E-2,{"$f":"RTD(\"esrtd\",,\"NG 77!\",\"Last\")","v":""},{"$f":"RTD(\"esrtd\",,\"NG 77!\",\"Change\")","v":""},{"$f":"RTD(\"esrtd\",,\"NG 77!\",\"PrevPrice\")","v":4.3600000000000003},{"$f":"RTD(\"esrtd\",,\"NG 77!\",\"NewSettlement\")","v":""},"",{"$f":"RTD(\"esrtd\",,\"NG 77!\",\"Expiration\")","v":"2021-03-29T08:00:00"}]
[{"$f":"RTD(\"esrtd\",,\"NG 78!\",\"Delivery\")","v":"May'21"},{"$f":"RTD(\"esrtd\",,\"NG 77!:78!\",\"Market\")","v":""},-1.699999999999946E-2,null,4.3619999999999992,-1.5000000000000568E-2,{"$f":"RTD(\"esrtd\",,\"NG 78!\",\"Last\")","v":""},{"$f":"RTD(\"esrtd\",,\"NG 78!\",\"Change\")","v":""},{"$f":"RTD(\"esrtd\",,\"NG 78!\",\"PrevPrice\")","v":4.3769999999999998},{"$f":"RTD(\"esrtd\",,\"NG 78!\",\"NewSettlement\")","v":""},"",{"$f":"RTD(\"esrtd\",,\"NG 78!\",\"Expiration\")","v":"2021-04-28T08:00:00"}]
[{"$f":"RTD(\"esrtd\",,\"NG 79!\",\"Delivery\")","v":"Jun'21"},{"$f":"RTD(\"esrtd\",,\"NG 78!:79!\",\"Market\")","v":""},-3.0000000000000249E-2,null,4.3919999999999995,-1.5000000000000568E-2,{"$f":"RTD(\"esrtd\",,\"NG 79!\",\"Last\")","v":""},{"$f":"RTD(\"esrtd\",,\"NG 79!\",\"Change\")","v":""},{"$f":"RTD(\"esrtd\",,\"NG 79!\",\"PrevPrice\")","v":4.407},{"$f":"RTD(\"esrtd\",,\"NG 79!\",\"NewSettlement\")","v":""},"",{"$f":"RTD(\"esrtd\",,\"NG 79!\",\"Expiration\")","v":"2021-05-26T08:00:00"}]
[{"$f":"RTD(\"esrtd\",,\"NG 80!\",\"Delivery\")","v":"Jul'21"},{"$f":"RTD(\"esrtd\",,\"NG 79!:80!\",\"Market\")","v":""},-3.6999999999999922E-2,null,4.4289999999999994,-1.5000000000000568E-2,{"$f":"RTD(\"esrtd\",,\"NG 80!\",\"Last\")","v":""},{"$f":"RTD(\"esrtd\",,\"NG 80!\",\"Change\")","v":""},{"$f":"RTD(\"esrtd\",,\"NG 80!\",\"PrevPrice\")","v":4.444},{"$f":"RTD(\"esrtd\",,\"NG 80!\",\"NewSettlement\")","v":""},"",{"$f":"RTD(\"esrtd\",,\"NG 80!\",\"Expiration\")","v":"2021-06-28T08:00:00"}]
[{"$f":"RTD(\"esrtd\",,\"NG 81!\",\"Delivery\")","v":"Aug'21"},{"$f":"RTD(\"esrtd\",,\"NG 80!:81!\",\"Market\")","v":""},-3.0000000000000249E-2,null,4.4589999999999996,-1.5000000000000568E-2,{"$f":"RTD(\"esrtd\",,\"NG 81!\",\"Last\")","v":""},{"$f":"RTD(\"esrtd\",,\"NG 81!\",\"Change\")","v":""},{"$f":"RTD(\"esrtd\",,\"NG 81!\",\"PrevPrice\")","v":4.4740000000000002},{"$f":"RTD(\"esrtd\",,\"NG 81!\",\"NewSettlement\")","v":""},"",{"$f":"RTD(\"esrtd\",,\"NG 81!\",\"Expiration\")","v":"2021-07-28T08:00:00"}]
[{"$f":"RTD(\"esrtd\",,\"NG 82!\",\"Delivery\")","v":"Sep'21"},{"$f":"RTD(\"esrtd\",,\"NG 81!:82!\",\"Market\")","v":""},3.0000000000001137E-3,null,4.4559999999999995,-1.5000000000000568E-2,{"$f":"RTD(\"esrtd\",,\"NG 82!\",\"Last\")","v":""},{"$f":"RTD(\"esrtd\",,\"NG 82!\",\"Change\")","v":""},{"$f":"RTD(\"esrtd\",,\"NG 82!\",\"PrevPrice\")","v":4.4710000000000001},{"$f":"RTD(\"esrtd\",,\"NG 82!\",\"NewSettlement\")","v":""},"",{"$f":"RTD(\"esrtd\",,\"NG 82!\",\"Expiration\")","v":"2021-08-27T08:00:00"}]
[{"$f":"RTD(\"esrtd\",,\"NG 83!\",\"Delivery\")","v":"Oct'21"},{"$f":"RTD(\"esrtd\",,\"NG 82!:83!\",\"Market\")","v":""},-3.5000000000000142E-2,null,4.4909999999999997,-1.5000000000000568E-2,{"$f":"RTD(\"esrtd\",,\"NG 83!\",\"Last\")","v":""},{"$f":"RTD(\"esrtd\",,\"NG 83!\",\"Change\")","v":""},{"$f":"RTD(\"esrtd\",,\"NG 83!\",\"PrevPrice\")","v":4.5060000000000002},{"$f":"RTD(\"esrtd\",,\"NG 83!\",\"NewSettlement\")","v":""},"",{"$f":"RTD(\"esrtd\",,\"NG 83!\",\"Expiration\")","v":"2021-09-28T08:00:00"}]
[{"$f":"RTD(\"esrtd\",,\"NG 84!\",\"Delivery\")","v":"Nov'21"},{"$f":"RTD(\"esrtd\",,\"NG 83!:84!\",\"Market\")","v":""},-8.9999999999999858E-2,null,4.5809999999999995,-1.5000000000000568E-2,{"$f":"RTD(\"esrtd\",,\"NG 84!\",\"Last\")","v":""},{"$f":"RTD(\"esrtd\",,\"NG 84!\",\"Change\")","v":""},{"$f":"RTD(\"esrtd\",,\"NG 84!\",\"PrevPrice\")","v":4.5960000000000001},{"$f":"RTD(\"esrtd\",,\"NG 84!\",\"NewSettlement\")","v":""},"",{"$f":"RTD(\"esrtd\",,\"NG 84!\",\"Expiration\")","v":"2021-10-27T08:00:00"}]
[{"$f":"RTD(\"esrtd\",,\"NG 85!\",\"Delivery\")","v":"Dec'21"},{"$f":"RTD(\"esrtd\",,\"NG 84!:85!\",\"Market\")","v":""},-0.18799999999999972,null,4.7689999999999992,-1.5000000000000568E-2,{"$f":"RTD(\"esrtd\",,\"NG 85!\",\"Last\")","v":""},{"$f":"RTD(\"esrtd\",,\"NG 85!\",\"Change\")","v":""},{"$f":"RTD(\"esrtd\",,\"NG 85!\",\"PrevPrice\")","v":4.7839999999999998},{"$f":"RTD(\"esrtd\",,\"NG 85!\",\"NewSettlement\")","v":""},"",{"$f":"RTD(\"esrtd\",,\"NG 85!\",\"Expiration\")","v":"2021-11-26T07:00:00"}]
[{"$f":"RTD(\"esrtd\",,\"NG 86!\",\"Delivery\")","v":"Jan'22"},{"$f":"RTD(\"esrtd\",,\"NG 85!:86!\",\"Market\")","v":""},-0.10000000000000053,null,4.8689999999999998,-1.5000000000000568E-2,{"$f":"RTD(\"esrtd\",,\"NG 86!\",\"Last\")","v":""},{"$f":"RTD(\"esrtd\",,\"NG 86!\",\"Change\")","v":""},{"$f":"RTD(\"esrtd\",,\"NG 86!\",\"PrevPrice\")","v":4.8840000000000003},{"$f":"RTD(\"esrtd\",,\"NG 86!\",\"NewSettlement\")","v":""},"",{"$f":"RTD(\"esrtd\",,\"NG 86!\",\"Expiration\")","v":"2021-12-29T07:00:00"}]
[{"$f":"RTD(\"esrtd\",,\"NG 87!\",\"Delivery\")","v":"Feb'22"},{"$f":"RTD(\"esrtd\",,\"NG 86!:87!\",\"Market\")","v":""},2.5000000000000355E-2,null,4.8439999999999994,-1.5000000000000568E-2,{"$f":"RTD(\"esrtd\",,\"NG 87!\",\"Last\")","v":""},{"$f":"RTD(\"esrtd\",,\"NG 87!\",\"Change\")","v":""},{"$f":"RTD(\"esrtd\",,\"NG 87!\",\"PrevPrice\")","v":4.859},{"$f":"RTD(\"esrtd\",,\"NG 87!\",\"NewSettlement\")","v":""},"",{"$f":"RTD(\"esrtd\",,\"NG 87!\",\"Expiration\")","v":"2022-01-27T07:00:00"}]
[{"$f":"RTD(\"esrtd\",,\"NG 88!\",\"Delivery\")","v":"Mar'22"},{"$f":"RTD(\"esrtd\",,\"NG 87!:88!\",\"Market\")","v":""},7.0000000000000284E-2,null,4.7739999999999991,-1.5000000000000568E-2,{"$f":"RTD(\"esrtd\",,\"NG 88!\",\"Last\")","v":""},{"$f":"RTD(\"esrtd\",,\"NG 88!\",\"Change\")","v":""},{"$f":"RTD(\"esrtd\",,\"NG 88!\",\"PrevPrice\")","v":4.7889999999999997},{"$f":"RTD(\"esrtd\",,\"NG 88!\",\"NewSettlement\")","v":""},"",{"$f":"RTD(\"esrtd\",,\"NG 88!\",\"Expiration\")","v":"2022-02-24T07:00:00"}]
[{"$f":"RTD(\"esrtd\",,\"NG 89!\",\"Delivery\")","v":"Apr'22"},{"$f":"RTD(\"esrtd\",,\"NG 88!:89!\",\"Market\")","v":""},0.33999999999999986,null,4.4339999999999993,-1.5000000000000568E-2,{"$f":"RTD(\"esrtd\",,\"NG 89!\",\"Last\")","v":""},{"$f":"RTD(\"esrtd\",,\"NG 89!\",\"Change\")","v":""},{"$f":"RTD(\"esrtd\",,\"NG 89!\",\"PrevPrice\")","v":4.4489999999999998},{"$f":"RTD(\"esrtd\",,\"NG 89!\",\"NewSettlement\")","v":""},"",{"$f":"RTD(\"esrtd\",,\"NG 89!\",\"Expiration\")","v":"2022-03-29T08:00:00"}]
[{"$f":"RTD(\"esrtd\",,\"NG 90!\",\"Delivery\")","v":"May'22"},{"$f":"RTD(\"esrtd\",,\"NG 89!:90!\",\"Market\")","v":""},8.0000000000000071E-3,null,4.4259999999999993,-1.5000000000000568E-2,{"$f":"RTD(\"esrtd\",,\"NG 90!\",\"Last\")","v":""},{"$f":"RTD(\"esrtd\",,\"NG 90!\",\"Change\")","v":""},{"$f":"RTD(\"esrtd\",,\"NG 90!\",\"PrevPrice\")","v":4.4409999999999998},{"$f":"RTD(\"esrtd\",,\"NG 90!\",\"NewSettlement\")","v":""},"",{"$f":"RTD(\"esrtd\",,\"NG 90!\",\"Expiration\")","v":"2022-04-27T08:00:00"}]
[{"$f":"RTD(\"esrtd\",,\"NG 91!\",\"Delivery\")","v":"Jun'22"},{"$f":"RTD(\"esrtd\",,\"NG 90!:91!\",\"Market\")","v":""},-3.0000000000000249E-2,null,4.4559999999999995,-1.5000000000000568E-2,{"$f":"RTD(\"esrtd\",,\"NG 91!\",\"Last\")","v":""},{"$f":"RTD(\"esrtd\",,\"NG 91!\",\"Change\")","v":""},{"$f":"RTD(\"esrtd\",,\"NG 91!\",\"PrevPrice\")","v":4.4710000000000001},{"$f":"RTD(\"esrtd\",,\"NG 91!\",\"NewSettlement\")","v":""},"",{"$f":"RTD(\"esrtd\",,\"NG 91!\",\"Expiration\")","v":"2022-05-26T08:00:00"}]
[{"$f":"RTD(\"esrtd\",,\"NG 92!\",\"Delivery\")","v":"Jul'22"},{"$f":"RTD(\"esrtd\",,\"NG 91!:92!\",\"Market\")","v":""},-3.8000000000000256E-2,null,4.4939999999999998,-1.5000000000000568E-2,{"$f":"RTD(\"esrtd\",,\"NG 92!\",\"Last\")","v":""},{"$f":"RTD(\"esrtd\",,\"NG 92!\",\"Change\")","v":""},{"$f":"RTD(\"esrtd\",,\"NG 92!\",\"PrevPrice\")","v":4.5090000000000003},{"$f":"RTD(\"esrtd\",,\"NG 92!\",\"NewSettlement\")","v":""},"",{"$f":"RTD(\"esrtd\",,\"NG 92!\",\"Expiration\")","v":"2022-06-28T08:00:00"}]
[{"$f":"RTD(\"esrtd\",,\"NG 93!\",\"Delivery\")","v":"Aug'22"},{"$f":"RTD(\"esrtd\",,\"NG 92!:93!\",\"Market\")","v":""},-3.7999999999999368E-2,null,4.5319999999999991,-1.5000000000000568E-2,{"$f":"RTD(\"esrtd\",,\"NG 93!\",\"Last\")","v":""},{"$f":"RTD(\"esrtd\",,\"NG 93!\",\"Change\")","v":""},{"$f":"RTD(\"esrtd\",,\"NG 93!\",\"PrevPrice\")","v":4.5469999999999997},{"$f":"RTD(\"esrtd\",,\"NG 93!\",\"NewSettlement\")","v":""},"",{"$f":"RTD(\"esrtd\",,\"NG 93!\",\"Expiration\")","v":"2022-07-27T08:00:00"}]
[{"$f":"RTD(\"esrtd\",,\"NG 94!\",\"Delivery\")","v":"Sep'22"},{"$f":"RTD(\"esrtd\",,\"NG 93!:94!\",\"Market\")","v":""},-6.0000000000002274E-3,null,4.5379999999999994,-1.5000000000000568E-2,{"$f":"RTD(\"esrtd\",,\"NG 94!\",\"Last\")","v":""},{"$f":"RTD(\"esrtd\",,\"NG 94!\",\"Change\")","v":""},{"$f":"RTD(\"esrtd\",,\"NG 94!\",\"PrevPrice\")","v":4.5529999999999999},{"$f":"RTD(\"esrtd\",,\"NG 94!\",\"NewSettlement\")","v":""},"",{"$f":"RTD(\"esrtd\",,\"NG 94!\",\"Expiration\")","v":"2022-08-29T08:00:00"}]
[{"$f":"RTD(\"esrtd\",,\"NG 95!\",\"Delivery\")","v":"Oct'22"},{"$f":"RTD(\"esrtd\",,\"NG 94!:95!\",\"Market\")","v":""},-4.4999999999999929E-2,null,4.5829999999999993,-1.5000000000000568E-2,{"$f":"RTD(\"esrtd\",,\"NG 95!\",\"Last\")","v":""},{"$f":"RTD(\"esrtd\",,\"NG 95!\",\"Change\")","v":""},{"$f":"RTD(\"esrtd\",,\"NG 95!\",\"PrevPrice\")","v":4.5979999999999999},{"$f":"RTD(\"esrtd\",,\"NG 95!\",\"NewSettlement\")","v":""},"",{"$f":"RTD(\"esrtd\",,\"NG 95!\",\"Expiration\")","v":"2022-09-28T08:00:00"}]
[{"$f":"RTD(\"esrtd\",,\"NG 96!\",\"Delivery\")","v":"Nov'22"},{"$f":"RTD(\"esrtd\",,\"NG 95!:96!\",\"Market\")","v":""},-8.8000000000000078E-2,null,4.6709999999999994,-1.5000000000000568E-2,{"$f":"RTD(\"esrtd\",,\"NG 96!\",\"Last\")","v":""},{"$f":"RTD(\"esrtd\",,\"NG 96!\",\"Change\")","v":""},{"$f":"RTD(\"esrtd\",,\"NG 96!\",\"PrevPrice\")","v":4.6859999999999999},{"$f":"RTD(\"esrtd\",,\"NG 96!\",\"NewSettlement\")","v":""},"",{"$f":"RTD(\"esrtd\",,\"NG 96!\",\"Expiration\")","v":"2022-10-27T08:00:00"}]
[{"$f":"RTD(\"esrtd\",,\"NG 97!\",\"Delivery\")","v":"Dec'22"},{"$f":"RTD(\"esrtd\",,\"NG 96!:97!\",\"Market\")","v":""},-0.19000000000000039,null,4.8609999999999998,-1.5000000000000568E-2,{"$f":"RTD(\"esrtd\",,\"NG 97!\",\"Last\")","v":""},{"$f":"RTD(\"esrtd\",,\"NG 97!\",\"Change\")","v":""},{"$f":"RTD(\"esrtd\",,\"NG 97!\",\"PrevPrice\")","v":4.8760000000000003},{"$f":"RTD(\"esrtd\",,\"NG 97!\",\"NewSettlement\")","v":""},"",{"$f":"RTD(\"esrtd\",,\"NG 97!\",\"Expiration\")","v":"2022-11-28T07:00:00"}]
[{"$f":"RTD(\"esrtd\",,\"NG 98!\",\"Delivery\")","v":"Jan'23"},{"$f":"RTD(\"esrtd\",,\"NG 97!:98!\",\"Market\")","v":""},-9.9999999999999645E-2,null,4.9609999999999994,-1.5000000000000568E-2,{"$f":"RTD(\"esrtd\",,\"NG 98!\",\"Last\")","v":""},{"$f":"RTD(\"esrtd\",,\"NG 98!\",\"Change\")","v":""},{"$f":"RTD(\"esrtd\",,\"NG 98!\",\"PrevPrice\")","v":4.976},{"$f":"RTD(\"esrtd\",,\"NG 98!\",\"NewSettlement\")","v":""},"",{"$f":"RTD(\"esrtd\",,\"NG 98!\",\"Expiration\")","v":"2022-12-28T07:00:00"}]
[{"$f":"RTD(\"esrtd\",,\"NG 99!\",\"Delivery\")","v":"Feb'23"},{"$f":"RTD(\"esrtd\",,\"NG 98!:99!\",\"Market\")","v":""},3.0000000000000249E-2,null,4.9309999999999992,-1.5000000000000568E-2,{"$f":"RTD(\"esrtd\",,\"NG 99!\",\"Last\")","v":""},{"$f":"RTD(\"esrtd\",,\"NG 99!\",\"Change\")","v":""},{"$f":"RTD(\"esrtd\",,\"NG 99!\",\"PrevPrice\")","v":4.9459999999999997},{"$f":"RTD(\"esrtd\",,\"NG 99!\",\"NewSettlement\")","v":""},"",{"$f":"RTD(\"esrtd\",,\"NG 99!\",\"Expiration\")","v":"2023-01-27T07:00:00"}]
[{"$f":"RTD(\"esrtd\",,\"NG 100!\",\"Delivery\")","v":"Mar'23"},{"$f":"RTD(\"esrtd\",,\"NG 99!:100!\",\"Market\")","v":""},8.0000000000000071E-2,null,4.8509999999999991,-1.5000000000000568E-2,{"$f":"RTD(\"esrtd\",,\"NG 100!\",\"Last\")","v":""},{"$f":"RTD(\"esrtd\",,\"NG 100!\",\"Change\")","v":""},{"$f":"RTD(\"esrtd\",,\"NG 100!\",\"PrevPrice\")","v":4.8659999999999997},{"$f":"RTD(\"esrtd\",,\"NG 100!\",\"NewSettlement\")","v":""},"",{"$f":"RTD(\"esrtd\",,\"NG 100!\",\"Expiration\")","v":"2023-02-24T07:00:00"}]
[{"$f":"RTD(\"esrtd\",,\"NG 101!\",\"Delivery\")","v":"Apr'23"},{"$f":"RTD(\"esrtd\",,\"NG 100!:101!\",\"Market\")","v":""},0.34999999999999964,null,4.5009999999999994,-1.5000000000000568E-2,{"$f":"RTD(\"esrtd\",,\"NG 101!\",\"Last\")","v":""},{"$f":"RTD(\"esrtd\",,\"NG 101!\",\"Change\")","v":""},{"$f":"RTD(\"esrtd\",,\"NG 101!\",\"PrevPrice\")","v":4.516},{"$f":"RTD(\"esrtd\",,\"NG 101!\",\"NewSettlement\")","v":""},"",{"$f":"RTD(\"esrtd\",,\"NG 101!\",\"Expiration\")","v":"2023-03-29T08:00:00"}]
[{"$f":"RTD(\"esrtd\",,\"NG 102!\",\"Delivery\")","v":"May'23"},{"$f":"RTD(\"esrtd\",,\"NG 101!:102!\",\"Market\")","v":""},1.2000000000000455E-2,null,4.488999999999999,-1.5000000000000568E-2,{"$f":"RTD(\"esrtd\",,\"NG 102!\",\"Last\")","v":""},{"$f":"RTD(\"esrtd\",,\"NG 102!\",\"Change\")","v":""},{"$f":"RTD(\"esrtd\",,\"NG 102!\",\"PrevPrice\")","v":4.5039999999999996},{"$f":"RTD(\"esrtd\",,\"NG 102!\",\"NewSettlement\")","v":""},"",{"$f":"RTD(\"esrtd\",,\"NG 102!\",\"Expiration\")","v":"2023-04-26T08:00:00"}]
[{"$f":"RTD(\"esrtd\",,\"NG 103!\",\"Delivery\")","v":"Jun'23"},{"$f":"RTD(\"esrtd\",,\"NG 102!:103!\",\"Market\")","v":""},-3.0000000000000249E-2,null,4.5189999999999992,-1.5000000000000568E-2,{"$f":"RTD(\"esrtd\",,\"NG 103!\",\"Last\")","v":""},{"$f":"RTD(\"esrtd\",,\"NG 103!\",\"Change\")","v":""},{"$f":"RTD(\"esrtd\",,\"NG 103!\",\"PrevPrice\")","v":4.5339999999999998},{"$f":"RTD(\"esrtd\",,\"NG 103!\",\"NewSettlement\")","v":""},"",{"$f":"RTD(\"esrtd\",,\"NG 103!\",\"Expiration\")","v":"2023-05-29T08:00:00"}]
[{"$f":"RTD(\"esrtd\",,\"NG 104!\",\"Delivery\")","v":"Jul'23"},{"$f":"RTD(\"esrtd\",,\"NG 103!:104!\",\"Market\")","v":""},-4.1000000000000369E-2,null,4.5599999999999996,-1.5000000000000568E-2,{"$f":"RTD(\"esrtd\",,\"NG 104!\",\"Last\")","v":""},{"$f":"RTD(\"esrtd\",,\"NG 104!\",\"Change\")","v":""},{"$f":"RTD(\"esrtd\",,\"NG 104!\",\"PrevPrice\")","v":4.5750000000000002},{"$f":"RTD(\"esrtd\",,\"NG 104!\",\"NewSettlement\")","v":""},"",{"$f":"RTD(\"esrtd\",,\"NG 104!\",\"Expiration\")","v":"2023-06-28T08:00:00"}]
[{"$f":"RTD(\"esrtd\",,\"NG 105!\",\"Delivery\")","v":"Aug'23"},{"$f":"RTD(\"esrtd\",,\"NG 104!:105!\",\"Market\")","v":""},-3.8999999999999702E-2,null,4.5989999999999993,-1.5000000000000568E-2,{"$f":"RTD(\"esrtd\",,\"NG 105!\",\"Last\")","v":""},{"$f":"RTD(\"esrtd\",,\"NG 105!\",\"Change\")","v":""},{"$f":"RTD(\"esrtd\",,\"NG 105!\",\"PrevPrice\")","v":4.6139999999999999},{"$f":"RTD(\"esrtd\",,\"NG 105!\",\"NewSettlement\")","v":""},"",{"$f":"RTD(\"esrtd\",,\"NG 105!\",\"Expiration\")","v":"2023-07-27T08:00:00"}]
[{"$f":"RTD(\"esrtd\",,\"NG 106!\",\"Delivery\")","v":"Sep'23"},{"$f":"RTD(\"esrtd\",,\"NG 105!:106!\",\"Market\")","v":""},-9.9999999999997868E-3,null,4.6089999999999991,-1.5000000000000568E-2,{"$f":"RTD(\"esrtd\",,\"NG 106!\",\"Last\")","v":""},{"$f":"RTD(\"esrtd\",,\"NG 106!\",\"Change\")","v":""},{"$f":"RTD(\"esrtd\",,\"NG 106!\",\"PrevPrice\")","v":4.6239999999999997},{"$f":"RTD(\"esrtd\",,\"NG 106!\",\"NewSettlement\")","v":""},"",{"$f":"RTD(\"esrtd\",,\"NG 106!\",\"Expiration\")","v":"2023-08-29T08:00:00"}]
[{"$f":"RTD(\"esrtd\",,\"NG 107!\",\"Delivery\")","v":"Oct'23"},{"$f":"RTD(\"esrtd\",,\"NG 106!:107!\",\"Market\")","v":""},-5.200000000000049E-2,null,4.6609999999999996,-1.5000000000000568E-2,{"$f":"RTD(\"esrtd\",,\"NG 107!\",\"Last\")","v":""},{"$f":"RTD(\"esrtd\",,\"NG 107!\",\"Change\")","v":""},{"$f":"RTD(\"esrtd\",,\"NG 107!\",\"PrevPrice\")","v":4.6760000000000002},{"$f":"RTD(\"esrtd\",,\"NG 107!\",\"NewSettlement\")","v":""},"",{"$f":"RTD(\"esrtd\",,\"NG 107!\",\"Expiration\")","v":"2023-09-27T08:00:00"}]
[{"$f":"RTD(\"esrtd\",,\"NG 108!\",\"Delivery\")","v":"Nov'23"},{"$f":"RTD(\"esrtd\",,\"NG 107!:108!\",\"Market\")","v":""},-8.9999999999999858E-2,null,4.7509999999999994,-1.5000000000000568E-2,{"$f":"RTD(\"esrtd\",,\"NG 108!\",\"Last\")","v":""},{"$f":"RTD(\"esrtd\",,\"NG 108!\",\"Change\")","v":""},{"$f":"RTD(\"esrtd\",,\"NG 108!\",\"PrevPrice\")","v":4.766},{"$f":"RTD(\"esrtd\",,\"NG 108!\",\"NewSettlement\")","v":""},"",{"$f":"RTD(\"esrtd\",,\"NG 108!\",\"Expiration\")","v":"2023-10-27T08:00:00"}]
[{"$f":"RTD(\"esrtd\",,\"NG 109!\",\"Delivery\")","v":"Dec'23"},{"$f":"RTD(\"esrtd\",,\"NG 108!:109!\",\"Market\")","v":""},-0.19000000000000039,null,4.9409999999999998,-1.5000000000000568E-2,{"$f":"RTD(\"esrtd\",,\"NG 109!\",\"Last\")","v":""},{"$f":"RTD(\"esrtd\",,\"NG 109!\",\"Change\")","v":""},{"$f":"RTD(\"esrtd\",,\"NG 109!\",\"PrevPrice\")","v":4.9560000000000004},{"$f":"RTD(\"esrtd\",,\"NG 109!\",\"NewSettlement\")","v":""},"",{"$f":"RTD(\"esrtd\",,\"NG 109!\",\"Expiration\")","v":"2023-11-28T07:00:00"}]
[{"$f":"RTD(\"esrtd\",,\"NG 110!\",\"Delivery\")","v":"Jan'24"},{"$f":"RTD(\"esrtd\",,\"NG 109!:110!\",\"Market\")","v":""},-9.4999999999999751E-2,null,5.0359999999999996,-1.5000000000000568E-2,{"$f":"RTD(\"esrtd\",,\"NG 110!\",\"Last\")","v":""},{"$f":"RTD(\"esrtd\",,\"NG 110!\",\"Change\")","v":""},{"$f":"RTD(\"esrtd\",,\"NG 110!\",\"PrevPrice\")","v":5.0510000000000002},{"$f":"RTD(\"esrtd\",,\"NG 110!\",\"NewSettlement\")","v":""},"",{"$f":"RTD(\"esrtd\",,\"NG 110!\",\"Expiration\")","v":"2023-12-27T07:00:00"}]
[{"$f":"RTD(\"esrtd\",,\"NG 111!\",\"Delivery\")","v":"Feb'24"},{"$f":"RTD(\"esrtd\",,\"NG 110!:111!\",\"Market\")","v":""},3.1000000000000583E-2,null,5.004999999999999,-1.5000000000000568E-2,{"$f":"RTD(\"esrtd\",,\"NG 111!\",\"Last\")","v":""},{"$f":"RTD(\"esrtd\",,\"NG 111!\",\"Change\")","v":""},{"$f":"RTD(\"esrtd\",,\"NG 111!\",\"PrevPrice\")","v":5.0199999999999996},{"$f":"RTD(\"esrtd\",,\"NG 111!\",\"NewSettlement\")","v":""},"",{"$f":"RTD(\"esrtd\",,\"NG 111!\",\"Expiration\")","v":"2024-01-29T07:00:00"}]
[{"$f":"RTD(\"esrtd\",,\"NG 112!\",\"Delivery\")","v":"Mar'24"},{"$f":"RTD(\"esrtd\",,\"NG 111!:112!\",\"Market\")","v":""},8.1999999999999851E-2,null,4.9229999999999992,-1.5000000000000568E-2,{"$f":"RTD(\"esrtd\",,\"NG 112!\",\"Last\")","v":""},{"$f":"RTD(\"esrtd\",,\"NG 112!\",\"Change\")","v":""},{"$f":"RTD(\"esrtd\",,\"NG 112!\",\"PrevPrice\")","v":4.9379999999999997},{"$f":"RTD(\"esrtd\",,\"NG 112!\",\"NewSettlement\")","v":""},"",{"$f":"RTD(\"esrtd\",,\"NG 112!\",\"Expiration\")","v":"2024-02-27T07:00:00"}]
[{"$f":"RTD(\"esrtd\",,\"NG 113!\",\"Delivery\")","v":"Apr'24"},{"$f":"RTD(\"esrtd\",,\"NG 112!:113!\",\"Market\")","v":""},0.36499999999999932,null,4.5579999999999998,-1.5000000000000568E-2,{"$f":"RTD(\"esrtd\",,\"NG 113!\",\"Last\")","v":""},{"$f":"RTD(\"esrtd\",,\"NG 113!\",\"Change\")","v":""},{"$f":"RTD(\"esrtd\",,\"NG 113!\",\"PrevPrice\")","v":4.5730000000000004},{"$f":"RTD(\"esrtd\",,\"NG 113!\",\"NewSettlement\")","v":""},"",{"$f":"RTD(\"esrtd\",,\"NG 113!\",\"Expiration\")","v":"2024-03-27T08:00:00"}]
[{"$f":"RTD(\"esrtd\",,\"NG 114!\",\"Delivery\")","v":"May'24"},{"$f":"RTD(\"esrtd\",,\"NG 113!:114!\",\"Market\")","v":""},1.5000000000000568E-2,null,4.5429999999999993,-1.5000000000000568E-2,{"$f":"RTD(\"esrtd\",,\"NG 114!\",\"Last\")","v":""},{"$f":"RTD(\"esrtd\",,\"NG 114!\",\"Change\")","v":""},{"$f":"RTD(\"esrtd\",,\"NG 114!\",\"PrevPrice\")","v":4.5579999999999998},{"$f":"RTD(\"esrtd\",,\"NG 114!\",\"NewSettlement\")","v":""},"",{"$f":"RTD(\"esrtd\",,\"NG 114!\",\"Expiration\")","v":"2024-04-26T08:00:00"}]
[{"$f":"RTD(\"esrtd\",,\"NG 115!\",\"Delivery\")","v":"Jun'24"},{"$f":"RTD(\"esrtd\",,\"NG 114!:115!\",\"Market\")","v":""},-3.2000000000000028E-2,null,4.5749999999999993,-1.5000000000000568E-2,{"$f":"RTD(\"esrtd\",,\"NG 115!\",\"Last\")","v":""},{"$f":"RTD(\"esrtd\",,\"NG 115!\",\"Change\")","v":""},{"$f":"RTD(\"esrtd\",,\"NG 115!\",\"PrevPrice\")","v":4.59},{"$f":"RTD(\"esrtd\",,\"NG 115!\",\"NewSettlement\")","v":""},"",{"$f":"RTD(\"esrtd\",,\"NG 115!\",\"Expiration\")","v":"2024-05-29T08:00:00"}]
[{"$f":"RTD(\"esrtd\",,\"NG 116!\",\"Delivery\")","v":"Jul'24"},{"$f":"RTD(\"esrtd\",,\"NG 115!:116!\",\"Market\")","v":""},-4.4999999999999929E-2,null,4.6199999999999992,-1.5000000000000568E-2,{"$f":"RTD(\"esrtd\",,\"NG 116!\",\"Last\")","v":""},{"$f":"RTD(\"esrtd\",,\"NG 116!\",\"Change\")","v":""},{"$f":"RTD(\"esrtd\",,\"NG 116!\",\"PrevPrice\")","v":4.6349999999999998},{"$f":"RTD(\"esrtd\",,\"NG 116!\",\"NewSettlement\")","v":""},"",{"$f":"RTD(\"esrtd\",,\"NG 116!\",\"Expiration\")","v":"2024-06-26T08:00:00"}]
[{"$f":"RTD(\"esrtd\",,\"NG 117!\",\"Delivery\")","v":"Aug'24"},{"$f":"RTD(\"esrtd\",,\"NG 116!:117!\",\"Market\")","v":""},-4.1999999999999815E-2,null,4.661999999999999,-1.5000000000000568E-2,{"$f":"RTD(\"esrtd\",,\"NG 117!\",\"Last\")","v":""},{"$f":"RTD(\"esrtd\",,\"NG 117!\",\"Change\")","v":""},{"$f":"RTD(\"esrtd\",,\"NG 117!\",\"PrevPrice\")","v":4.6769999999999996},{"$f":"RTD(\"esrtd\",,\"NG 117!\",\"NewSettlement\")","v":""},"",{"$f":"RTD(\"esrtd\",,\"NG 117!\",\"Expiration\")","v":"2024-07-29T08:00:00"}]
[{"$f":"RTD(\"esrtd\",,\"NG 118!\",\"Delivery\")","v":"Sep'24"},{"$f":"RTD(\"esrtd\",,\"NG 117!:118!\",\"Market\")","v":""},-1.3000000000000789E-2,null,4.6749999999999998,-1.5000000000000568E-2,{"$f":"RTD(\"esrtd\",,\"NG 118!\",\"Last\")","v":""},{"$f":"RTD(\"esrtd\",,\"NG 118!\",\"Change\")","v":""},{"$f":"RTD(\"esrtd\",,\"NG 118!\",\"PrevPrice\")","v":4.6900000000000004},{"$f":"RTD(\"esrtd\",,\"NG 118!\",\"NewSettlement\")","v":""},"",{"$f":"RTD(\"esrtd\",,\"NG 118!\",\"Expiration\")","v":"2024-08-28T08:00:00"}]
[{"$f":"RTD(\"esrtd\",,\"NG 119!\",\"Delivery\")","v":"Oct'24"},{"$f":"RTD(\"esrtd\",,\"NG 118!:119!\",\"Market\")","v":""},-5.9999999999999609E-2,null,4.7349999999999994,-1.5000000000000568E-2,{"$f":"RTD(\"esrtd\",,\"NG 119!\",\"Last\")","v":""},{"$f":"RTD(\"esrtd\",,\"NG 119!\",\"Change\")","v":""},{"$f":"RTD(\"esrtd\",,\"NG 119!\",\"PrevPrice\")","v":4.75},{"$f":"RTD(\"esrtd\",,\"NG 119!\",\"NewSettlement\")","v":""},"",{"$f":"RTD(\"esrtd\",,\"NG 119!\",\"Expiration\")","v":"2024-09-26T08:00:00"}]
[{"$f":"RTD(\"esrtd\",,\"NG 120!\",\"Delivery\")","v":"Nov'24"},{"$f":"RTD(\"esrtd\",,\"NG 119!:120!\",\"Market\")","v":""},-8.9999999999999858E-2,null,4.8249999999999993,-1.5000000000000568E-2,{"$f":"RTD(\"esrtd\",,\"NG 120!\",\"Last\")","v":""},{"$f":"RTD(\"esrtd\",,\"NG 120!\",\"Change\")","v":""},{"$f":"RTD(\"esrtd\",,\"NG 120!\",\"PrevPrice\")","v":4.84},{"$f":"RTD(\"esrtd\",,\"NG 120!\",\"NewSettlement\")","v":""},"",{"$f":"RTD(\"esrtd\",,\"NG 120!\",\"Expiration\")","v":"2024-10-29T08:00:00"}]
[{"$f":"RTD(\"esrtd\",,\"NG 121!\",\"Delivery\")","v":"Dec'24"},{"$f":"RTD(\"esrtd\",,\"NG 120!:121!\",\"Market\")","v":""},-0.19500000000000028,null,5.0199999999999996,-1.5000000000000568E-2,{"$f":"RTD(\"esrtd\",,\"NG 121!\",\"Last\")","v":""},{"$f":"RTD(\"esrtd\",,\"NG 121!\",\"Change\")","v":""},{"$f":"RTD(\"esrtd\",,\"NG 121!\",\"PrevPrice\")","v":5.0350000000000001},{"$f":"RTD(\"esrtd\",,\"NG 121!\",\"NewSettlement\")","v":""},"",{"$f":"RTD(\"esrtd\",,\"NG 121!\",\"Expiration\")","v":"2024-11-27T07:00:00"}]
[{"$f":"RTD(\"esrtd\",,\"NG 122!\",\"Delivery\")","v":"Jan'25"},{"$f":"RTD(\"esrtd\",,\"NG 121!:122!\",\"Market\")","v":""},-9.4999999999999751E-2,null,5.1149999999999993,-1.5000000000000568E-2,{"$f":"RTD(\"esrtd\",,\"NG 122!\",\"Last\")","v":""},{"$f":"RTD(\"esrtd\",,\"NG 122!\",\"Change\")","v":""},{"$f":"RTD(\"esrtd\",,\"NG 122!\",\"PrevPrice\")","v":5.13},{"$f":"RTD(\"esrtd\",,\"NG 122!\",\"NewSettlement\")","v":""},"",{"$f":"RTD(\"esrtd\",,\"NG 122!\",\"Expiration\")","v":"2024-12-27T07:00:00"}]
[{"$f":"RTD(\"esrtd\",,\"NG 123!\",\"Delivery\")","v":"Feb'25"},{"$f":"RTD(\"esrtd\",,\"NG 122!:123!\",\"Market\")","v":""},3.5000000000000142E-2,null,5.0799999999999992,-1.5000000000000568E-2,{"$f":"RTD(\"esrtd\",,\"NG 123!\",\"Last\")","v":""},{"$f":"RTD(\"esrtd\",,\"NG 123!\",\"Change\")","v":""},{"$f":"RTD(\"esrtd\",,\"NG 123!\",\"PrevPrice\")","v":5.0949999999999998},{"$f":"RTD(\"esrtd\",,\"NG 123!\",\"NewSettlement\")","v":""},"",{"$f":"RTD(\"esrtd\",,\"NG 123!\",\"Expiration\")","v":"2025-01-29T07:00:00"}]
[{"$f":"RTD(\"esrtd\",,\"NG 124!\",\"Delivery\")","v":"Mar'25"},{"$f":"RTD(\"esrtd\",,\"NG 123!:124!\",\"Market\")","v":""},8.4999999999999964E-2,null,4.9949999999999992,-1.5000000000000568E-2,{"$f":"RTD(\"esrtd\",,\"NG 124!\",\"Last\")","v":""},{"$f":"RTD(\"esrtd\",,\"NG 124!\",\"Change\")","v":""},{"$f":"RTD(\"esrtd\",,\"NG 124!\",\"PrevPrice\")","v":5.01},{"$f":"RTD(\"esrtd\",,\"NG 124!\",\"NewSettlement\")","v":""},"",{"$f":"RTD(\"esrtd\",,\"NG 124!\",\"Expiration\")","v":"2025-02-26T07:00:00"}]
[{"$f":"RTD(\"esrtd\",,\"NG 125!\",\"Delivery\")","v":"Apr'25"},{"$f":"RTD(\"esrtd\",,\"NG 124!:125!\",\"Market\")","v":""},0.38499999999999979,null,4.6099999999999994,-1.5000000000000568E-2,{"$f":"RTD(\"esrtd\",,\"NG 125!\",\"Last\")","v":""},{"$f":"RTD(\"esrtd\",,\"NG 125!\",\"Change\")","v":""},{"$f":"RTD(\"esrtd\",,\"NG 125!\",\"PrevPrice\")","v":4.625},{"$f":"RTD(\"esrtd\",,\"NG 125!\",\"NewSettlement\")","v":""},"",{"$f":"RTD(\"esrtd\",,\"NG 125!\",\"Expiration\")","v":"2025-03-27T08:00:00"}]
[{"$f":"RTD(\"esrtd\",,\"NG 126!\",\"Delivery\")","v":"May'25"},{"$f":"RTD(\"esrtd\",,\"NG 125!:126!\",\"Market\")","v":""},1.499999999999968E-2,null,4.5949999999999998,-1.5000000000000568E-2,{"$f":"RTD(\"esrtd\",,\"NG 126!\",\"Last\")","v":""},{"$f":"RTD(\"esrtd\",,\"NG 126!\",\"Change\")","v":""},{"$f":"RTD(\"esrtd\",,\"NG 126!\",\"PrevPrice\")","v":4.6100000000000003},{"$f":"RTD(\"esrtd\",,\"NG 126!\",\"NewSettlement\")","v":""},"",{"$f":"RTD(\"esrtd\",,\"NG 126!\",\"Expiration\")","v":"2025-04-28T08:00:00"}]
[{"$f":"RTD(\"esrtd\",,\"NG 127!\",\"Delivery\")","v":"Jun'25"},{"$f":"RTD(\"esrtd\",,\"NG 126!:127!\",\"Market\")","v":""},-3.7999999999999368E-2,null,4.6329999999999991,-1.5000000000000568E-2,{"$f":"RTD(\"esrtd\",,\"NG 127!\",\"Last\")","v":""},{"$f":"RTD(\"esrtd\",,\"NG 127!\",\"Change\")","v":""},{"$f":"RTD(\"esrtd\",,\"NG 127!\",\"PrevPrice\")","v":4.6479999999999997},{"$f":"RTD(\"esrtd\",,\"NG 127!\",\"NewSettlement\")","v":""},"",{"$f":"RTD(\"esrtd\",,\"NG 127!\",\"Expiration\")","v":"2025-05-28T08:00:00"}]
[{"$f":"RTD(\"esrtd\",,\"NG 128!\",\"Delivery\")","v":"Jul'25"},{"$f":"RTD(\"esrtd\",,\"NG 127!:128!\",\"Market\")","v":""},-4.8000000000000043E-2,null,4.6809999999999992,-1.5000000000000568E-2,{"$f":"RTD(\"esrtd\",,\"NG 128!\",\"Last\")","v":""},{"$f":"RTD(\"esrtd\",,\"NG 128!\",\"Change\")","v":""},{"$f":"RTD(\"esrtd\",,\"NG 128!\",\"PrevPrice\")","v":4.6959999999999997},{"$f":"RTD(\"esrtd\",,\"NG 128!\",\"NewSettlement\")","v":""},"",{"$f":"RTD(\"esrtd\",,\"NG 128!\",\"Expiration\")","v":"2025-06-26T08:00:00"}]
[{"$f":"RTD(\"esrtd\",,\"NG 129!\",\"Delivery\")","v":"Aug'25"},{"$f":"RTD(\"esrtd\",,\"NG 128!:129!\",\"Market\")","v":""},-4.4000000000000483E-2,null,4.7249999999999996,-1.5000000000000568E-2,{"$f":"RTD(\"esrtd\",,\"NG 129!\",\"Last\")","v":""},{"$f":"RTD(\"esrtd\",,\"NG 129!\",\"Change\")","v":""},{"$f":"RTD(\"esrtd\",,\"NG 129!\",\"PrevPrice\")","v":4.74},{"$f":"RTD(\"esrtd\",,\"NG 129!\",\"NewSettlement\")","v":""},"",{"$f":"RTD(\"esrtd\",,\"NG 129!\",\"Expiration\")","v":"2025-07-29T08:00:00"}]
[{"$f":"RTD(\"esrtd\",,\"NG 130!\",\"Delivery\")","v":"Sep'25"},{"$f":"RTD(\"esrtd\",,\"NG 129!:130!\",\"Market\")","v":""},-1.499999999999968E-2,null,4.7399999999999993,{"$f":"IF(AND(E134<>\"\",I134<>\"\"),E134-I134,\"\")","v":-1.5000000000000568E-2},{"$f":"RTD(\"esrtd\",,\"NG 130!\",\"Last\")","v":""},{"$f":"RTD(\"esrtd\",,\"NG 130!\",\"Change\")","v":""},{"$f":"RTD(\"esrtd\",,\"NG 130!\",\"PrevPrice\")","v":4.7549999999999999},{"$f":"RTD(\"esrtd\",,\"NG 130!\",\"NewSettlement\")","v":""},{"$f":"IF(AND(I134<>\"\",J134<>\"\"),J134-I134,\"\")","v":""},{"$f":"RTD(\"esrtd\",,\"NG 130!\",\"Expiration\")","v":"2025-08-27T08:00:00"}]
[{"$f":"RTD(\"esrtd\",,\"NG 131!\",\"Delivery\")","v":"Oct'25"},{"$f":"RTD(\"esrtd\",,\"NG 130!:131!\",\"Market\")","v":""},-6.2000000000000277E-2,null,4.8019999999999996,-1.5000000000000568E-2,{"$f":"RTD(\"esrtd\",,\"NG 131!\",\"Last\")","v":""},{"$f":"RTD(\"esrtd\",,\"NG 131!\",\"Change\")","v":""},{"$f":"RTD(\"esrtd\",,\"NG 131!\",\"PrevPrice\")","v":4.8170000000000002},{"$f":"RTD(\"esrtd\",,\"NG 131!\",\"NewSettlement\")","v":""},"",{"$f":"RTD(\"esrtd\",,\"NG 131!\",\"Expiration\")","v":"2025-09-26T08:00:00"}]
[{"$f":"RTD(\"esrtd\",,\"NG 132!\",\"Delivery\")","v":"Nov'25"},{"$f":"RTD(\"esrtd\",,\"NG 131!:132!\",\"Market\")","v":""},{"$f":"I135-I136","v":-0.10499999999999954},null,4.9069999999999991,-1.5000000000000568E-2,{"$f":"RTD(\"esrtd\",,\"NG 132!\",\"Last\")","v":""},{"$f":"RTD(\"esrtd\",,\"NG 132!\",\"Change\")","v":""},{"$f":"RTD(\"esrtd\",,\"NG 132!\",\"PrevPrice\")","v":4.9219999999999997},{"$f":"RTD(\"esrtd\",,\"NG 132!\",\"NewSettlement\")","v":""},"",{"$f":"RTD(\"esrtd\",,\"NG 132!\",\"Expiration\")","v":"2025-10-29T08:00:00"}]
[{"$f":"RTD(\"esrtd\",,\"NG 133!\",\"Delivery\")","v":"Dec'25"},{"$f":"RTD(\"esrtd\",,\"NG 132!:133!\",\"Market\")","v":""},-0.20999999999999996,null,5.1169999999999991,-1.5000000000000568E-2,{"$f":"RTD(\"esrtd\",,\"NG 133!\",\"Last\")","v":""},{"$f":"RTD(\"esrtd\",,\"NG 133!\",\"Change\")","v":""},{"$f":"RTD(\"esrtd\",,\"NG 133!\",\"PrevPrice\")","v":5.1319999999999997},{"$f":"RTD(\"esrtd\",,\"NG 133!\",\"NewSettlement\")","v":""},"",{"$f":"RTD(\"esrtd\",,\"NG 133!\",\"Expiration\")","v":"2025-11-25T07:00:00"}]
[{"$f":"RTD(\"esrtd\",,\"NG 134!\",\"Delivery\")","v":"Jan'26"},{"$f":"RTD(\"esrtd\",,\"NG 133!:134!\",\"Market\")","v":""},-0.11000000000000032,null,{"$f":"IF(D138<>\"\",E137-D138,IF(B138<>\"\",E137-B138,E137-C138))","v":5.2269999999999994},-1.5000000000000568E-2,{"$f":"RTD(\"esrtd\",,\"NG 134!\",\"Last\")","v":""},{"$f":"RTD(\"esrtd\",,\"NG 134!\",\"Change\")","v":""},{"$f":"RTD(\"esrtd\",,\"NG 134!\",\"PrevPrice\")","v":5.242},{"$f":"RTD(\"esrtd\",,\"NG 134!\",\"NewSettlement\")","v":""},"",{"$f":"RTD(\"esrtd\",,\"NG 134!\",\"Expiration\")","v":"2026-01-30T07:00:00"}]
[{"$f":"RTD(\"esrtd\",,\"NG 135!\",\"Delivery\")","v":"Feb'26"},{"$f":"RTD(\"esrtd\",,\"NG 134!:135!\",\"Market\")","v":""},3.6999999999999922E-2,null,5.1899999999999995,-1.5000000000000568E-2,{"$f":"RTD(\"esrtd\",,\"NG 135!\",\"Last\")","v":""},{"$f":"RTD(\"esrtd\",,\"NG 135!\",\"Change\")","v":""},{"$f":"RTD(\"esrtd\",,\"NG 135!\",\"PrevPrice\")","v":5.2050000000000001},{"$f":"RTD(\"esrtd\",,\"NG 135!\",\"NewSettlement\")","v":""},"",{"$f":"RTD(\"esrtd\",,\"NG 135!\",\"Expiration\")","v":"2026-02-27T07:00:00"}]
[{"$f":"RTD(\"esrtd\",,\"NG 136!\",\"Delivery\")","v":"Mar'26"},{"$f":"RTD(\"esrtd\",,\"NG 135!:136!\",\"Market\")","v":""},8.8000000000000078E-2,null,5.1019999999999994,-1.5000000000000568E-2,{"$f":"RTD(\"esrtd\",,\"NG 136!\",\"Last\")","v":""},{"$f":"RTD(\"esrtd\",,\"NG 136!\",\"Change\")","v":""},{"$f":"RTD(\"esrtd\",,\"NG 136!\",\"PrevPrice\")","v":5.117},{"$f":"RTD(\"esrtd\",,\"NG 136!\",\"NewSettlement\")","v":""},"",{"$f":"RTD(\"esrtd\",,\"NG 136!\",\"Expiration\")","v":"2026-03-31T08:00:00"}]
[{"$f":"RTD(\"esrtd\",,\"NG 137!\",\"Delivery\")","v":"Apr'26"},{"$f":"RTD(\"esrtd\",,\"NG 136!:137!\",\"Market\")","v":""},0.38999999999999968,null,4.7119999999999997,-1.5000000000000568E-2,{"$f":"RTD(\"esrtd\",,\"NG 137!\",\"Last\")","v":""},{"$f":"RTD(\"esrtd\",,\"NG 137!\",\"Change\")","v":""},{"$f":"RTD(\"esrtd\",,\"NG 137!\",\"PrevPrice\")","v":4.7270000000000003},{"$f":"RTD(\"esrtd\",,\"NG 137!\",\"NewSettlement\")","v":""},"",{"$f":"RTD(\"esrtd\",,\"NG 137!\",\"Expiration\")","v":"2026-04-30T08:00:00"}]
[{"$f":"RTD(\"esrtd\",,\"NG 138!\",\"Delivery\")","v":"May'26"},{"$f":"RTD(\"esrtd\",,\"NG 137!:138!\",\"Market\")","v":""},1.5000000000000568E-2,null,4.6969999999999992,-1.5000000000000568E-2,{"$f":"RTD(\"esrtd\",,\"NG 138!\",\"Last\")","v":""},{"$f":"RTD(\"esrtd\",,\"NG 138!\",\"Change\")","v":""},{"$f":"RTD(\"esrtd\",,\"NG 138!\",\"PrevPrice\")","v":4.7119999999999997},{"$f":"RTD(\"esrtd\",,\"NG 138!\",\"NewSettlement\")","v":""},"",{"$f":"RTD(\"esrtd\",,\"NG 138!\",\"Expiration\")","v":"2026-05-29T08:00:00"}]
[{"$f":"RTD(\"esrtd\",,\"NG 139!\",\"Delivery\")","v":"Jun'26"},{"$f":"RTD(\"esrtd\",,\"NG 138!:139!\",\"Market\")","v":""},-3.8000000000000256E-2,null,4.7349999999999994,-1.5000000000000568E-2,{"$f":"RTD(\"esrtd\",,\"NG 139!\",\"Last\")","v":""},{"$f":"RTD(\"esrtd\",,\"NG 139!\",\"Change\")","v":""},{"$f":"RTD(\"esrtd\",,\"NG 139!\",\"PrevPrice\")","v":4.75},{"$f":"RTD(\"esrtd\",,\"NG 139!\",\"NewSettlement\")","v":""},"",{"$f":"RTD(\"esrtd\",,\"NG 139!\",\"Expiration\")","v":"2026-06-30T08:00:00"}]
[{"$f":"RTD(\"esrtd\",,\"NG 140!\",\"Delivery\")","v":"Jul'26"},{"$f":"RTD(\"esrtd\",,\"NG 139!:140!\",\"Market\")","v":""},-4.8000000000000043E-2,null,4.7829999999999995,-1.5000000000000568E-2,{"$f":"RTD(\"esrtd\",,\"NG 140!\",\"Last\")","v":""},{"$f":"RTD(\"esrtd\",,\"NG 140!\",\"Change\")","v":""},{"$f":"RTD(\"esrtd\",,\"NG 140!\",\"PrevPrice\")","v":4.798},{"$f":"RTD(\"esrtd\",,\"NG 140!\",\"NewSettlement\")","v":""},"",{"$f":"RTD(\"esrtd\",,\"NG 140!\",\"Expiration\")","v":"2026-07-31T08:00:00"}]
[{"$f":"RTD(\"esrtd\",,\"NG 141!\",\"Delivery\")","v":"Aug'26"},{"$f":"RTD(\"esrtd\",,\"NG 140!:141!\",\"Market\")","v":""},-4.3999999999999595E-2,null,4.8269999999999991,-1.5000000000000568E-2,{"$f":"RTD(\"esrtd\",,\"NG 141!\",\"Last\")","v":""},{"$f":"RTD(\"esrtd\",,\"NG 141!\",\"Change\")","v":""},{"$f":"RTD(\"esrtd\",,\"NG 141!\",\"PrevPrice\")","v":4.8419999999999996},{"$f":"RTD(\"esrtd\",,\"NG 141!\",\"NewSettlement\")","v":""},"",{"$f":"RTD(\"esrtd\",,\"NG 141!\",\"Expiration\")","v":"2026-08-31T08:00:00"}]
[{"$f":"RTD(\"esrtd\",,\"NG 142!\",\"Delivery\")","v":"Sep'26"},{"$f":"RTD(\"esrtd\",,\"NG 141!:142!\",\"Market\")","v":""},-1.5000000000000568E-2,null,4.8419999999999996,-1.5000000000000568E-2,{"$f":"RTD(\"esrtd\",,\"NG 142!\",\"Last\")","v":""},{"$f":"RTD(\"esrtd\",,\"NG 142!\",\"Change\")","v":""},{"$f":"RTD(\"esrtd\",,\"NG 142!\",\"PrevPrice\")","v":4.8570000000000002},{"$f":"RTD(\"esrtd\",,\"NG 142!\",\"NewSettlement\")","v":""},"",{"$f":"RTD(\"esrtd\",,\"NG 142!\",\"Expiration\")","v":"2026-09-30T08:00:00"}]
[{"$f":"RTD(\"esrtd\",,\"NG 143!\",\"Delivery\")","v":"Oct'26"},{"$f":"RTD(\"esrtd\",,\"NG 142!:143!\",\"Market\")","v":""},-6.1999999999999389E-2,null,4.903999999999999,-1.5000000000000568E-2,{"$f":"RTD(\"esrtd\",,\"NG 143!\",\"Last\")","v":""},{"$f":"RTD(\"esrtd\",,\"NG 143!\",\"Change\")","v":""},{"$f":"RTD(\"esrtd\",,\"NG 143!\",\"PrevPrice\")","v":4.9189999999999996},{"$f":"RTD(\"esrtd\",,\"NG 143!\",\"NewSettlement\")","v":""},"",{"$f":"RTD(\"esrtd\",,\"NG 143!\",\"Expiration\")","v":"2026-10-30T08:00:00"}]
[{"$f":"RTD(\"esrtd\",,\"NG 144!\",\"Delivery\")","v":"Nov'26"},{"$f":"RTD(\"esrtd\",,\"NG 143!:144!\",\"Market\")","v":""},-0.12000000000000011,null,5.0239999999999991,-1.5000000000000568E-2,{"$f":"RTD(\"esrtd\",,\"NG 144!\",\"Last\")","v":""},{"$f":"RTD(\"esrtd\",,\"NG 144!\",\"Change\")","v":""},{"$f":"RTD(\"esrtd\",,\"NG 144!\",\"PrevPrice\")","v":5.0389999999999997},{"$f":"RTD(\"esrtd\",,\"NG 144!\",\"NewSettlement\")","v":""},"",{"$f":"RTD(\"esrtd\",,\"NG 144!\",\"Expiration\")","v":"2026-11-30T07:00:00"}]
[{"$f":"RTD(\"esrtd\",,\"NG 145!\",\"Delivery\")","v":"Dec'26"},{"$f":"RTD(\"esrtd\",,\"NG 144!:145!\",\"Market\")","v":""},-0.23000000000000043,null,5.2539999999999996,-1.5000000000000568E-2,{"$f":"RTD(\"esrtd\",,\"NG 145!\",\"Last\")","v":""},{"$f":"RTD(\"esrtd\",,\"NG 145!\",\"Change\")","v":""},{"$f":"RTD(\"esrtd\",,\"NG 145!\",\"PrevPrice\")","v":5.2690000000000001},{"$f":"RTD(\"esrtd\",,\"NG 145!\",\"NewSettlement\")","v":""},"",{"$f":"RTD(\"esrtd\",,\"NG 145!\",\"Expiration\")","v":"2026-12-31T07:00:00"}]
["          ©2013 Interactive Data Corporation.  All Rights Reserved."]

{"sheet":"Forward Curve Chart","index":1,"n_rows":30,"n_cols":2,"rows_kept":30,"cut":false,"hidden":false,"merged":[]}
[]
[]
[]
[]
[]
[]
[]
[]
[]
[]
[]
[]
[]
[]
[]
[]
[]
[]
[]
[]
[]
[]
[]
[]
[]
[]
[]
[]
[]
[null,"©2013 Interactive Data Corporation.  All Rights Reserved."]